BEGIN:VCALENDAR
VERSION:2.0
PRODID:-//Cambridge Common Writers - ECPv6.15.20//NONSGML v1.0//EN
CALSCALE:GREGORIAN
METHOD:PUBLISH
X-WR-CALNAME:Cambridge Common Writers
X-ORIGINAL-URL:https://cambridgecommonwriters.org
X-WR-CALDESC:Events for Cambridge Common Writers
REFRESH-INTERVAL;VALUE=DURATION:PT1H
X-Robots-Tag:noindex
X-PUBLISHED-TTL:PT1H
BEGIN:VTIMEZONE
TZID:America/New_York
BEGIN:DAYLIGHT
TZOFFSETFROM:-0500
TZOFFSETTO:-0400
TZNAME:EDT
DTSTART:20240310T070000
END:DAYLIGHT
BEGIN:STANDARD
TZOFFSETFROM:-0400
TZOFFSETTO:-0500
TZNAME:EST
DTSTART:20241103T060000
END:STANDARD
BEGIN:DAYLIGHT
TZOFFSETFROM:-0500
TZOFFSETTO:-0400
TZNAME:EDT
DTSTART:20250309T070000
END:DAYLIGHT
BEGIN:STANDARD
TZOFFSETFROM:-0400
TZOFFSETTO:-0500
TZNAME:EST
DTSTART:20251102T060000
END:STANDARD
BEGIN:DAYLIGHT
TZOFFSETFROM:-0500
TZOFFSETTO:-0400
TZNAME:EDT
DTSTART:20260308T070000
END:DAYLIGHT
BEGIN:STANDARD
TZOFFSETFROM:-0400
TZOFFSETTO:-0500
TZNAME:EST
DTSTART:20261101T060000
END:STANDARD
END:VTIMEZONE
BEGIN:VEVENT
DTSTART;TZID=America/New_York:20251025T190000
DTEND;TZID=America/New_York:20251025T200000
DTSTAMP:20260420T135439
CREATED:20251011T190922Z
LAST-MODIFIED:20251011T190926Z
UID:12421-1761418800-1761422400@cambridgecommonwriters.org
SUMMARY:Book Launch with Unnameable Books: Self-Romancing by L Scully
DESCRIPTION:Join L Scully (Nonfiction\, January 2023) at Unnameable Books for the launch of their poetry collection\, Self-Romancing (Dopamine Books). They will be in conversation with CA Conrad (Listen to the Golden Boomerang Returns)\, and the event will be hosted by Zoe Tuck (Bedroom Vowel).
URL:https://cambridgecommonwriters.org/calendar/book-launch-with-unnameable-books-self-romancing-by-l-scully/
LOCATION:Unnameable Books\, 66 Avenue A\, Turners Falls\, Massachusetts\, 01376\, United States
CATEGORIES:Alum Event
ATTACH;FMTTYPE=image/jpeg:https://cambridgecommonwriters.org/wp-content/uploads/2025/10/L-Scully-CAConrad-10-25-reading.jpg
ORGANIZER;CN="Unnameable Books":MAILTO:unnameablebooks.falls@gmail.com
END:VEVENT
END:VCALENDAR