BEGIN:VCALENDAR
VERSION:2.0
PRODID:-//Cambridge Common Writers - ECPv6.15.20//NONSGML v1.0//EN
CALSCALE:GREGORIAN
METHOD:PUBLISH
X-ORIGINAL-URL:https://cambridgecommonwriters.org
X-WR-CALDESC:Events for Cambridge Common Writers
REFRESH-INTERVAL;VALUE=DURATION:PT1H
X-Robots-Tag:noindex
X-PUBLISHED-TTL:PT1H
BEGIN:VTIMEZONE
TZID:Europe/London
BEGIN:DAYLIGHT
TZOFFSETFROM:+0000
TZOFFSETTO:+0100
TZNAME:BST
DTSTART:20240331T010000
END:DAYLIGHT
BEGIN:STANDARD
TZOFFSETFROM:+0100
TZOFFSETTO:+0000
TZNAME:GMT
DTSTART:20241027T010000
END:STANDARD
BEGIN:DAYLIGHT
TZOFFSETFROM:+0000
TZOFFSETTO:+0100
TZNAME:BST
DTSTART:20250330T010000
END:DAYLIGHT
BEGIN:STANDARD
TZOFFSETFROM:+0100
TZOFFSETTO:+0000
TZNAME:GMT
DTSTART:20251026T010000
END:STANDARD
BEGIN:DAYLIGHT
TZOFFSETFROM:+0000
TZOFFSETTO:+0100
TZNAME:BST
DTSTART:20260329T010000
END:DAYLIGHT
BEGIN:STANDARD
TZOFFSETFROM:+0100
TZOFFSETTO:+0000
TZNAME:GMT
DTSTART:20261025T010000
END:STANDARD
END:VTIMEZONE
BEGIN:VEVENT
DTSTART;TZID=Europe/London:20251016T183000
DTEND;TZID=Europe/London:20251016T213000
DTSTAMP:20260420T140000
CREATED:20250926T140821Z
LAST-MODIFIED:20250926T140825Z
UID:12325-1760639400-1760650200@cambridgecommonwriters.org
SUMMARY:EVER SINCE WE SMALL Nottingham Book Launch with Celeste Mohammed
DESCRIPTION:Nottingham Central Library hosts an evening with award-winning author Celeste Mohammed (Fiction\, June 2016) to celebrate her new novel Ever Since We Small. \n\n\n\nJoin Celeste and Panya Banjoko for a discussion that roots this spellbinding novel in a historic context that reshapes how we understand the Caribbean and its people. \n\n\n\n\n\n\n\nBooks will be sold by Five Leaves Bookshop with a book signing to follow the conversation and a chance to meet the Trinidad-based award-winning author in person.
URL:https://cambridgecommonwriters.org/calendar/ever-since-we-small-nottingham-book-launch-with-celeste-mohammed/
LOCATION:Nottingham Central Library\, 1Carrington Street\, Nottingham\, NG1 7FH\, United Kingdom
CATEGORIES:Alum Event
ATTACH;FMTTYPE=image/jpeg:https://cambridgecommonwriters.org/wp-content/uploads/2024/02/Celeste_Mohammed.jpg
ORGANIZER;CN="Jacaranda Books":MAILTO:office@jacarandabooksartmusic.co.uk
END:VEVENT
END:VCALENDAR