BEGIN:VCALENDAR
VERSION:2.0
PRODID:-//Cambridge Common Writers - ECPv6.15.20//NONSGML v1.0//EN
CALSCALE:GREGORIAN
METHOD:PUBLISH
X-ORIGINAL-URL:https://cambridgecommonwriters.org
X-WR-CALDESC:Events for Cambridge Common Writers
REFRESH-INTERVAL;VALUE=DURATION:PT1H
X-Robots-Tag:noindex
X-PUBLISHED-TTL:PT1H
BEGIN:VTIMEZONE
TZID:America/New_York
BEGIN:DAYLIGHT
TZOFFSETFROM:-0500
TZOFFSETTO:-0400
TZNAME:EDT
DTSTART:20240310T070000
END:DAYLIGHT
BEGIN:STANDARD
TZOFFSETFROM:-0400
TZOFFSETTO:-0500
TZNAME:EST
DTSTART:20241103T060000
END:STANDARD
BEGIN:DAYLIGHT
TZOFFSETFROM:-0500
TZOFFSETTO:-0400
TZNAME:EDT
DTSTART:20250309T070000
END:DAYLIGHT
BEGIN:STANDARD
TZOFFSETFROM:-0400
TZOFFSETTO:-0500
TZNAME:EST
DTSTART:20251102T060000
END:STANDARD
BEGIN:DAYLIGHT
TZOFFSETFROM:-0500
TZOFFSETTO:-0400
TZNAME:EDT
DTSTART:20260308T070000
END:DAYLIGHT
BEGIN:STANDARD
TZOFFSETFROM:-0400
TZOFFSETTO:-0500
TZNAME:EST
DTSTART:20261101T060000
END:STANDARD
END:VTIMEZONE
BEGIN:VEVENT
DTSTART;TZID=America/New_York:20251008T180000
DTEND;TZID=America/New_York:20251008T190000
DTSTAMP:20260420T135654
CREATED:20251002T215844Z
LAST-MODIFIED:20251002T215848Z
UID:12363-1759946400-1759950000@cambridgecommonwriters.org
SUMMARY:Bright Before Us\, Like a Flame Book Launch with Jason Reynolds
DESCRIPTION:Celebrate Shout Mouse Press’s new anthology\, which features work from 10 years of SMP books & contributions from guest authors\, including Candice Iloh (WFYP\, June 2017).  #1 NYT best-selling author Jason Reynolds (WFYP\, MFA Writing Faculty) will join a panel of Shout Mouse youth authors for readings and conversation.
URL:https://cambridgecommonwriters.org/calendar/bright-before-us-like-a-flame-book-launch-with-jason-reynolds/
LOCATION:Planet Word Museum | Friedman Family Auditorium\, 925 13th St.\, NW\, Washington D.C.\, District of Columbia\, 20005\, United States
CATEGORIES:Alum Event,Mentor Event
ATTACH;FMTTYPE=image/jpeg:https://cambridgecommonwriters.org/wp-content/uploads/2025/10/Screenshot-2025-10-02-at-5.58.11-PM.jpg
END:VEVENT
END:VCALENDAR