BEGIN:VCALENDAR
VERSION:2.0
PRODID:-//Cambridge Common Writers - ECPv6.15.20//NONSGML v1.0//EN
CALSCALE:GREGORIAN
METHOD:PUBLISH
X-ORIGINAL-URL:https://cambridgecommonwriters.org
X-WR-CALDESC:Events for Cambridge Common Writers
REFRESH-INTERVAL;VALUE=DURATION:PT1H
X-Robots-Tag:noindex
X-PUBLISHED-TTL:PT1H
BEGIN:VTIMEZONE
TZID:America/New_York
BEGIN:DAYLIGHT
TZOFFSETFROM:-0500
TZOFFSETTO:-0400
TZNAME:EDT
DTSTART:20240310T070000
END:DAYLIGHT
BEGIN:STANDARD
TZOFFSETFROM:-0400
TZOFFSETTO:-0500
TZNAME:EST
DTSTART:20241103T060000
END:STANDARD
BEGIN:DAYLIGHT
TZOFFSETFROM:-0500
TZOFFSETTO:-0400
TZNAME:EDT
DTSTART:20250309T070000
END:DAYLIGHT
BEGIN:STANDARD
TZOFFSETFROM:-0400
TZOFFSETTO:-0500
TZNAME:EST
DTSTART:20251102T060000
END:STANDARD
BEGIN:DAYLIGHT
TZOFFSETFROM:-0500
TZOFFSETTO:-0400
TZNAME:EDT
DTSTART:20260308T070000
END:DAYLIGHT
BEGIN:STANDARD
TZOFFSETFROM:-0400
TZOFFSETTO:-0500
TZNAME:EST
DTSTART:20261101T060000
END:STANDARD
END:VTIMEZONE
BEGIN:VEVENT
DTSTART;TZID=America/New_York:20250930T200000
DTEND;TZID=America/New_York:20250930T210000
DTSTAMP:20260420T140021
CREATED:20250912T165717Z
LAST-MODIFIED:20250912T165720Z
UID:12222-1759262400-1759266000@cambridgecommonwriters.org
SUMMARY:WORTHY: THE BRAVE AND CAPABLE LIFE OF JOSEPH PIERCE Virtual Book Launch
DESCRIPTION:Join Newbery Honor author Andrea Wang (WFYP\, June 2011) and illustrator Youa Vang in conversation with educators and leaders of the NCTE Asian/AAPI Caucus\, Diana Liu and Leah Werther\, as they discuss Andrea and Youa’s historical nonfiction picture book\, WORTHY: THE BRAVE AND CAPABLE LIFE OF JOSEPH PIERCE \n\n\n\nThis event is free and open to all.
URL:https://cambridgecommonwriters.org/calendar/worthy-the-brave-and-capable-life-of-joseph-pierce-virtual-book-launch/
LOCATION:Online Zoom Event
CATEGORIES:Alum Event
ATTACH;FMTTYPE=image/jpeg:https://cambridgecommonwriters.org/wp-content/uploads/2021/01/Andrea-Wang.jpg
END:VEVENT
END:VCALENDAR