BEGIN:VCALENDAR
VERSION:2.0
PRODID:-//Cambridge Common Writers - ECPv6.15.20//NONSGML v1.0//EN
CALSCALE:GREGORIAN
METHOD:PUBLISH
X-WR-CALNAME:Cambridge Common Writers
X-ORIGINAL-URL:https://cambridgecommonwriters.org
X-WR-CALDESC:Events for Cambridge Common Writers
REFRESH-INTERVAL;VALUE=DURATION:PT1H
X-Robots-Tag:noindex
X-PUBLISHED-TTL:PT1H
BEGIN:VTIMEZONE
TZID:America/New_York
BEGIN:DAYLIGHT
TZOFFSETFROM:-0500
TZOFFSETTO:-0400
TZNAME:EDT
DTSTART:20240310T070000
END:DAYLIGHT
BEGIN:STANDARD
TZOFFSETFROM:-0400
TZOFFSETTO:-0500
TZNAME:EST
DTSTART:20241103T060000
END:STANDARD
BEGIN:DAYLIGHT
TZOFFSETFROM:-0500
TZOFFSETTO:-0400
TZNAME:EDT
DTSTART:20250309T070000
END:DAYLIGHT
BEGIN:STANDARD
TZOFFSETFROM:-0400
TZOFFSETTO:-0500
TZNAME:EST
DTSTART:20251102T060000
END:STANDARD
BEGIN:DAYLIGHT
TZOFFSETFROM:-0500
TZOFFSETTO:-0400
TZNAME:EDT
DTSTART:20260308T070000
END:DAYLIGHT
BEGIN:STANDARD
TZOFFSETFROM:-0400
TZOFFSETTO:-0500
TZNAME:EST
DTSTART:20261101T060000
END:STANDARD
END:VTIMEZONE
BEGIN:VEVENT
DTSTART;TZID=America/New_York:20250927T130000
DTEND;TZID=America/New_York:20250927T133000
DTSTAMP:20260420T154959
CREATED:20250826T212637Z
LAST-MODIFIED:20250826T212642Z
UID:12092-1758978000-1758979800@cambridgecommonwriters.org
SUMMARY:Spoken Word Stage Reading with Diane Griffin
DESCRIPTION:The Garlic & Arts Festival will be celebrating 12 years of Words on the Word Stage with readings by a number of authors\, including Diane Griffin (Nonfiction\, January 2018). This festival began to support local artists and farmers in the North Quabbin and nearby towns\, and will run from September 27-28\, with performances by other authors on the Word Stage throughout.
URL:https://cambridgecommonwriters.org/calendar/spoken-word-stage-reading-with-diane-griffin/
LOCATION:Forster Farm\, 60 Chestnut Hill Road\, Orange\, Massachusetts\, 01364\, United States
CATEGORIES:Alum Event
ATTACH;FMTTYPE=image/jpeg:https://cambridgecommonwriters.org/wp-content/uploads/2020/07/DianeGHeadshot.jpeg
END:VEVENT
BEGIN:VEVENT
DTSTART;TZID=America/New_York:20250927T150000
DTEND;TZID=America/New_York:20250927T160000
DTSTAMP:20260420T154959
CREATED:20250922T004336Z
LAST-MODIFIED:20250922T004341Z
UID:12288-1758985200-1758988800@cambridgecommonwriters.org
SUMMARY:Turkeys in Disguise Book Launch with Cynthia Platt
DESCRIPTION:Visit Whitelam Books for this in-person book launch of Cynthia Platt’s (WFYP\, June 2014) new picture book\, Turkeys in Disguise. \n\n\n\n\n\n\n\nIt’s Thanksgiving Day and Farmer Byrd’s Turkey & Vegetable Farm is expecting business\, but a surprisingly empty pen has the farmer declaring\, “No turkeys for sale!” \n\n\n\nFollow along as a group of kids get crafty and decide to save some turkeys by coming up with a cornucopia of creative and silly disguises for their feathered friends. \n\n\n\nInspired by the popular Thanksgiving school activity of creating paper disguises for the turkey\, this lower-priced hardcover picture book is perfect for the classroom and for story time at home. 
URL:https://cambridgecommonwriters.org/calendar/turkeys-in-disguise-book-launch-with-cynthia-platt/
LOCATION:Whitelam Books\, 610 Main Street\, Reading\, Massachusetts\, 01867\, United States
CATEGORIES:Alum Event
ATTACH;FMTTYPE=image/jpeg:https://cambridgecommonwriters.org/wp-content/uploads/2025/05/Turkeys-in-Disguise.jpg
ORGANIZER;CN="Whitelam Books":MAILTO:whitelambooks@gmail.com
END:VEVENT
BEGIN:VEVENT
DTSTART;TZID=America/New_York:20250927T170000
DTEND;TZID=America/New_York:20250927T180000
DTSTAMP:20260420T154959
CREATED:20250901T213635Z
LAST-MODIFIED:20250901T213639Z
UID:12175-1758992400-1758996000@cambridgecommonwriters.org
SUMMARY:East End Books Ptown presents: L Scully "Self-Romancing" in conv. w/ Zac Smith and Madison Murray
DESCRIPTION:Visit East End Books in Provincetown to celebrate the launch of L Scully’s (Nonfiction\, January 2023) poetry collection\, Self-Romancing. L will be in conversation with Zac Smith and Madison Murray. You can also watch the event through the store’s Facebook page. \n\n\n\n\n\n\n\nIn a tonal mash-up of Jenny Holzer’s Truisms\, confessional poetry\, and fortune telling\, Self-Romancing draws you into the amorous and obsessive inner life of an unnamed romantic. Relatable and snarky\, heartfelt and horny\, L Scully fortifies irony with vulnerability\, bringing readers into a narrative as intimate as slumber parties and ordinary as Trader Joe’s. Bursting with the giddy charm of the everyday\, Self-Romancing plays with form\, turning a book into a crush\, a crank call\, a manifesto.
URL:https://cambridgecommonwriters.org/calendar/east-end-books-ptown-presents-l-scully-self-romancing-in-conv-w-zac-smith-and-madison-murray/
LOCATION:East End Books Ptown\, 389 Commercial Street\, Provincetown\, Massachusetts\, 02657\, United States
CATEGORIES:Alum Event
ATTACH;FMTTYPE=image/jpeg:https://cambridgecommonwriters.org/wp-content/uploads/2025/03/Self-Romancing.jpg
ORGANIZER;CN="East End Books Ptown":MAILTO:eastendbooksptown@gmail.com
END:VEVENT
END:VCALENDAR