BEGIN:VCALENDAR
VERSION:2.0
PRODID:-//Cambridge Common Writers - ECPv6.15.20//NONSGML v1.0//EN
CALSCALE:GREGORIAN
METHOD:PUBLISH
X-WR-CALNAME:Cambridge Common Writers
X-ORIGINAL-URL:https://cambridgecommonwriters.org
X-WR-CALDESC:Events for Cambridge Common Writers
REFRESH-INTERVAL;VALUE=DURATION:PT1H
X-Robots-Tag:noindex
X-PUBLISHED-TTL:PT1H
BEGIN:VTIMEZONE
TZID:America/New_York
BEGIN:DAYLIGHT
TZOFFSETFROM:-0500
TZOFFSETTO:-0400
TZNAME:EDT
DTSTART:20240310T070000
END:DAYLIGHT
BEGIN:STANDARD
TZOFFSETFROM:-0400
TZOFFSETTO:-0500
TZNAME:EST
DTSTART:20241103T060000
END:STANDARD
BEGIN:DAYLIGHT
TZOFFSETFROM:-0500
TZOFFSETTO:-0400
TZNAME:EDT
DTSTART:20250309T070000
END:DAYLIGHT
BEGIN:STANDARD
TZOFFSETFROM:-0400
TZOFFSETTO:-0500
TZNAME:EST
DTSTART:20251102T060000
END:STANDARD
BEGIN:DAYLIGHT
TZOFFSETFROM:-0500
TZOFFSETTO:-0400
TZNAME:EDT
DTSTART:20260308T070000
END:DAYLIGHT
BEGIN:STANDARD
TZOFFSETFROM:-0400
TZOFFSETTO:-0500
TZNAME:EST
DTSTART:20261101T060000
END:STANDARD
END:VTIMEZONE
BEGIN:VEVENT
DTSTART;TZID=America/New_York:20250911T190000
DTEND;TZID=America/New_York:20250911T200000
DTSTAMP:20260420T154959
CREATED:20250901T222400Z
LAST-MODIFIED:20250901T222403Z
UID:12180-1757617200-1757620800@cambridgecommonwriters.org
SUMMARY:Writers Reading: Michael Mercurio\, with JJ Starr-McClain\, Kirun Kapur\, and Patrick Donnelly
DESCRIPTION:Presented in partnership with the Amherst Business Improvement District\, Writers Reading is a curated series featuring local authors. The next installment of the reading series hosts a line-up curated by featured writer Michael Mercurio (Poetry\, January 2017). Mercurio and fellow authors JJ Starr-McClain\, Kirun Kapur\, and Patrick Donnelly will share selections from their work. \n\n\n\nA poet\, editor\, and occasional critic\, Michael Mercurio lives and writes in the Pioneer Valley of Western Massachusetts. His poems\, interviews\, and reviews have been published or are forthcoming in Palette Poetry\, Thrush\, The Common\, Cream City Review\, Sierra (the magazine of the Sierra Club)\, Sugar House Review\, Lily Poetry Review\, and elsewhere. Michael is the founder and curator of What The Universe Is: A (Virtual) Reading Series\, where established and emerging poets read together monthly on Zoom. In addition\, he serves on the planning committee for the Tell It Slant Poetry Festival\, held each September at Emily Dickinson’s house\, and he is an instructor for the Pioneer Valley Writers’ Workshop. Learn more about Michael at poetmercurio.com. \n\n\n\nThis event is free to attend and open to all. See additional author bios at umass.edu/downtown/news-events.
URL:https://cambridgecommonwriters.org/calendar/writers-reading-michael-mercurio-with-jj-starr-mcclain-kirun-kapur-and-patrick-donnelly/
LOCATION:UMass Downtown\, 108 N Pleasant Street\, Amherst\, Massachusetts\, 01002\, United States
CATEGORIES:Alum Event
ATTACH;FMTTYPE=image/jpeg:https://cambridgecommonwriters.org/wp-content/uploads/2025/05/Michael-Mercurio-2025.jpg
ORGANIZER;CN="University of Massachusetts Amherst":MAILTO:scoop@admin.umass.edu
END:VEVENT
END:VCALENDAR