BEGIN:VCALENDAR
VERSION:2.0
PRODID:-//Cambridge Common Writers - ECPv6.15.20//NONSGML v1.0//EN
CALSCALE:GREGORIAN
METHOD:PUBLISH
X-WR-CALNAME:Cambridge Common Writers
X-ORIGINAL-URL:https://cambridgecommonwriters.org
X-WR-CALDESC:Events for Cambridge Common Writers
REFRESH-INTERVAL;VALUE=DURATION:PT1H
X-Robots-Tag:noindex
X-PUBLISHED-TTL:PT1H
BEGIN:VTIMEZONE
TZID:America/New_York
BEGIN:DAYLIGHT
TZOFFSETFROM:-0500
TZOFFSETTO:-0400
TZNAME:EDT
DTSTART:20240310T070000
END:DAYLIGHT
BEGIN:STANDARD
TZOFFSETFROM:-0400
TZOFFSETTO:-0500
TZNAME:EST
DTSTART:20241103T060000
END:STANDARD
BEGIN:DAYLIGHT
TZOFFSETFROM:-0500
TZOFFSETTO:-0400
TZNAME:EDT
DTSTART:20250309T070000
END:DAYLIGHT
BEGIN:STANDARD
TZOFFSETFROM:-0400
TZOFFSETTO:-0500
TZNAME:EST
DTSTART:20251102T060000
END:STANDARD
BEGIN:DAYLIGHT
TZOFFSETFROM:-0500
TZOFFSETTO:-0400
TZNAME:EDT
DTSTART:20260308T070000
END:DAYLIGHT
BEGIN:STANDARD
TZOFFSETFROM:-0400
TZOFFSETTO:-0500
TZNAME:EST
DTSTART:20261101T060000
END:STANDARD
END:VTIMEZONE
BEGIN:VEVENT
DTSTART;TZID=America/New_York:20250908T170000
DTEND;TZID=America/New_York:20250908T183000
DTSTAMP:20260420T154852
CREATED:20250826T214950Z
LAST-MODIFIED:20250826T214954Z
UID:12104-1757350800-1757356200@cambridgecommonwriters.org
SUMMARY:The Mock Turtle Picture Book Club with Claudia Rueda
DESCRIPTION:Join New York Times Bestseller illustrator and picture book author Claudia Rueda (WFYP\, January 2010) for The Mock Turtle Picturebook Club\, a space for creators and aficionados to connect\, discuss and be inspired by contemporary and avant-garde picture books and experimental visual storytelling. \n\n\n\nAttendants can purchase drinks and snacks during the meetings. (Not included in tickets)
URL:https://cambridgecommonwriters.org/calendar/the-mock-turtle-picture-book-club-with-claudia-rueda/
LOCATION:Sullaluna Bookstore & Bistrot\, 41 Carmine Street\, New York City\, New York\, 10014\, United States
CATEGORIES:Alum Event
ATTACH;FMTTYPE=image/jpeg:https://cambridgecommonwriters.org/wp-content/uploads/2022/02/Claudia-Rueda.jpg
END:VEVENT
END:VCALENDAR