BEGIN:VCALENDAR
VERSION:2.0
PRODID:-//Cambridge Common Writers - ECPv6.15.20//NONSGML v1.0//EN
CALSCALE:GREGORIAN
METHOD:PUBLISH
X-WR-CALNAME:Cambridge Common Writers
X-ORIGINAL-URL:https://cambridgecommonwriters.org
X-WR-CALDESC:Events for Cambridge Common Writers
REFRESH-INTERVAL;VALUE=DURATION:PT1H
X-Robots-Tag:noindex
X-PUBLISHED-TTL:PT1H
BEGIN:VTIMEZONE
TZID:America/New_York
BEGIN:DAYLIGHT
TZOFFSETFROM:-0500
TZOFFSETTO:-0400
TZNAME:EDT
DTSTART:20240310T070000
END:DAYLIGHT
BEGIN:STANDARD
TZOFFSETFROM:-0400
TZOFFSETTO:-0500
TZNAME:EST
DTSTART:20241103T060000
END:STANDARD
BEGIN:DAYLIGHT
TZOFFSETFROM:-0500
TZOFFSETTO:-0400
TZNAME:EDT
DTSTART:20250309T070000
END:DAYLIGHT
BEGIN:STANDARD
TZOFFSETFROM:-0400
TZOFFSETTO:-0500
TZNAME:EST
DTSTART:20251102T060000
END:STANDARD
BEGIN:DAYLIGHT
TZOFFSETFROM:-0500
TZOFFSETTO:-0400
TZNAME:EDT
DTSTART:20260308T070000
END:DAYLIGHT
BEGIN:STANDARD
TZOFFSETFROM:-0400
TZOFFSETTO:-0500
TZNAME:EST
DTSTART:20261101T060000
END:STANDARD
END:VTIMEZONE
BEGIN:VEVENT
DTSTART;TZID=America/New_York:20250816T110000
DTEND;TZID=America/New_York:20250816T113000
DTSTAMP:20260420T174559
CREATED:20250801T012923Z
LAST-MODIFIED:20250801T012924Z
UID:11976-1755342000-1755343800@cambridgecommonwriters.org
SUMMARY:Hello Dog/ Hello Human Children's Storytime with Sara Levine
DESCRIPTION:Join Ten Tree Books for story time with Sara Levine (WFYP\, January 2006)\, author of Hello Dog/Hello Human. \n\n\n\n\n\n\n\nLearn how to properly introduce yourself to a dog or human in this enticing flip-book guide that is two stories in one. \n\n\n\nA clever\, useful how-to flip book guide for both humans and our canine best friends\, Hello Dog / Hello Human offers advice to little humans (and dogs) on how to politely introduce themselves. \n\n\n\nThe book opens with a primer on how little humans should interact with dogs. Flip the book and find another story that advises dogs on how to interact with humans\, offering a fun insight into a dog’s mind while also providing additional information and empathy for our four-legged friends. \n\n\n\nThis delightful guide encourages readers to properly interact with the furry companions\, and the format is perfect for younger hands\, robust and ready to be read and shared. With a charming cast of dogs\, sweet art\, and a fun special format\, this is the perfect gift book for families looking to adopt a furry friend or anyone who wants to celebrate our canine pals. \n\n\n\nTickets for this event are free\, but all guests must register in advance\, as there are limited spots available.
URL:https://cambridgecommonwriters.org/calendar/hello-dog-hello-human-childrens-storytime-with-sara-levine/
LOCATION:Ten Trees Books\, North Main Street\, Natick\, Massachusetts\, 01760\, United States
CATEGORIES:Alum Event
ATTACH;FMTTYPE=image/jpeg:https://cambridgecommonwriters.org/wp-content/uploads/2025/01/Hello-Dog.jpg
ORGANIZER;CN="Ten Trees Books":MAILTO:info@tentreesbooks.com
END:VEVENT
BEGIN:VEVENT
DTSTART;TZID=America/New_York:20250816T190000
DTEND;TZID=America/New_York:20250816T200000
DTSTAMP:20260420T174559
CREATED:20250801T195305Z
LAST-MODIFIED:20250801T195306Z
UID:12011-1755370800-1755374400@cambridgecommonwriters.org
SUMMARY:Think Piece: A reading at Unnameable Books with L Scully
DESCRIPTION:Visit Unnameable Books and enjoy a reading with Yona Harvey\, Deja Carr\, Sierra Dickey\, L Scully (Nonfiction\, January 2023)\, Jayson Keery\, and Zoe Contros Kearl. Face masks requested.
URL:https://cambridgecommonwriters.org/calendar/think-piece-a-reading-at-unnameable-books-with-l-scully/
LOCATION:Unnameable Books\, 66 Avenue A\, Turners Falls\, Massachusetts\, 01376\, United States
CATEGORIES:Alum Event
ATTACH;FMTTYPE=image/jpeg:https://cambridgecommonwriters.org/wp-content/uploads/2023/01/L-Scully.jpeg
ORGANIZER;CN="Unnameable Books":MAILTO:unnameablebooks.falls@gmail.com
END:VEVENT
END:VCALENDAR