BEGIN:VCALENDAR
VERSION:2.0
PRODID:-//Cambridge Common Writers - ECPv6.15.20//NONSGML v1.0//EN
CALSCALE:GREGORIAN
METHOD:PUBLISH
X-ORIGINAL-URL:https://cambridgecommonwriters.org
X-WR-CALDESC:Events for Cambridge Common Writers
REFRESH-INTERVAL;VALUE=DURATION:PT1H
X-Robots-Tag:noindex
X-PUBLISHED-TTL:PT1H
BEGIN:VTIMEZONE
TZID:America/New_York
BEGIN:DAYLIGHT
TZOFFSETFROM:-0500
TZOFFSETTO:-0400
TZNAME:EDT
DTSTART:20240310T070000
END:DAYLIGHT
BEGIN:STANDARD
TZOFFSETFROM:-0400
TZOFFSETTO:-0500
TZNAME:EST
DTSTART:20241103T060000
END:STANDARD
BEGIN:DAYLIGHT
TZOFFSETFROM:-0500
TZOFFSETTO:-0400
TZNAME:EDT
DTSTART:20250309T070000
END:DAYLIGHT
BEGIN:STANDARD
TZOFFSETFROM:-0400
TZOFFSETTO:-0500
TZNAME:EST
DTSTART:20251102T060000
END:STANDARD
BEGIN:DAYLIGHT
TZOFFSETFROM:-0500
TZOFFSETTO:-0400
TZNAME:EDT
DTSTART:20260308T070000
END:DAYLIGHT
BEGIN:STANDARD
TZOFFSETFROM:-0400
TZOFFSETTO:-0500
TZNAME:EST
DTSTART:20261101T060000
END:STANDARD
END:VTIMEZONE
BEGIN:VEVENT
DTSTART;TZID=America/New_York:20250809T170000
DTEND;TZID=America/New_York:20250809T173000
DTSTAMP:20260420T174909
CREATED:20250801T011955Z
LAST-MODIFIED:20250801T011957Z
UID:11969-1754758800-1754760600@cambridgecommonwriters.org
SUMMARY:“24 Authors in 12 Hours” Virtual Book Fair with Alissa Butterworth
DESCRIPTION:Alissa Butterworth (Fiction\, June 2012) will be participating in the “24 Authors in 12 Hours” livestream from 5-5:30pm EST\, hosted by Amy S. Hamilton. She will be discussing her novel\, To Die is Different Than Supposed\, the writing life\, and the inspiration behind her work. There will be a giveaway of signed copies of her novel during the interview. The livestream will be available on Facebook and YouTube. \n\n\n\nTo Die is Different Than Supposed is a lyrical\, emotionally rich story about family\, loss\, and the invisible threads that connect us across generations. Set against the backdrop of grief and the unexpected\, it explores how we carry memory—and how it carries us.
URL:https://cambridgecommonwriters.org/calendar/24-authors-in-12-hours-virtual-book-fair-with-alissa-butterworth/
CATEGORIES:Alum Event
ATTACH;FMTTYPE=image/jpeg:https://cambridgecommonwriters.org/wp-content/uploads/2025/01/2025-Alissa-Butterworth-Headshot-.jpg
END:VEVENT
END:VCALENDAR