BEGIN:VCALENDAR
VERSION:2.0
PRODID:-//Cambridge Common Writers - ECPv6.15.20//NONSGML v1.0//EN
CALSCALE:GREGORIAN
METHOD:PUBLISH
X-WR-CALNAME:Cambridge Common Writers
X-ORIGINAL-URL:https://cambridgecommonwriters.org
X-WR-CALDESC:Events for Cambridge Common Writers
REFRESH-INTERVAL;VALUE=DURATION:PT1H
X-Robots-Tag:noindex
X-PUBLISHED-TTL:PT1H
BEGIN:VTIMEZONE
TZID:America/New_York
BEGIN:DAYLIGHT
TZOFFSETFROM:-0500
TZOFFSETTO:-0400
TZNAME:EDT
DTSTART:20240310T070000
END:DAYLIGHT
BEGIN:STANDARD
TZOFFSETFROM:-0400
TZOFFSETTO:-0500
TZNAME:EST
DTSTART:20241103T060000
END:STANDARD
BEGIN:DAYLIGHT
TZOFFSETFROM:-0500
TZOFFSETTO:-0400
TZNAME:EDT
DTSTART:20250309T070000
END:DAYLIGHT
BEGIN:STANDARD
TZOFFSETFROM:-0400
TZOFFSETTO:-0500
TZNAME:EST
DTSTART:20251102T060000
END:STANDARD
BEGIN:DAYLIGHT
TZOFFSETFROM:-0500
TZOFFSETTO:-0400
TZNAME:EDT
DTSTART:20260308T070000
END:DAYLIGHT
BEGIN:STANDARD
TZOFFSETFROM:-0400
TZOFFSETTO:-0500
TZNAME:EST
DTSTART:20261101T060000
END:STANDARD
END:VTIMEZONE
BEGIN:VEVENT
DTSTART;TZID=America/New_York:20250618T200000
DTEND;TZID=America/New_York:20250618T210000
DTSTAMP:20260420T213330
CREATED:20250601T211601Z
LAST-MODIFIED:20250601T211628Z
UID:11847-1750276800-1750280400@cambridgecommonwriters.org
SUMMARY:You Can't Kill a Poet Presents: Loose Bricks by Boston Gordon
DESCRIPTION:Celebrate the launch of Boston Gordon’s (Poetry\, January 2015) newest poetry book\, Loose Bricks! The event will include readings by other poets\, such as July Westhale (Poetry\, June 2013). Books will be available for purchase. Attendees must be 21+.
URL:https://cambridgecommonwriters.org/calendar/you-cant-kill-a-poet-presents-loose-bricks-by-boston-gordon/
LOCATION:Tattoed Mom\, 530 South St\, Philadelphia\, PA\, 19147\, United States
CATEGORIES:Alum Event
ATTACH;FMTTYPE=image/jpeg:https://cambridgecommonwriters.org/wp-content/uploads/2025/05/GordonCover.jpg
END:VEVENT
END:VCALENDAR