BEGIN:VCALENDAR
VERSION:2.0
PRODID:-//Cambridge Common Writers - ECPv6.15.20//NONSGML v1.0//EN
CALSCALE:GREGORIAN
METHOD:PUBLISH
X-WR-CALNAME:Cambridge Common Writers
X-ORIGINAL-URL:https://cambridgecommonwriters.org
X-WR-CALDESC:Events for Cambridge Common Writers
REFRESH-INTERVAL;VALUE=DURATION:PT1H
X-Robots-Tag:noindex
X-PUBLISHED-TTL:PT1H
BEGIN:VTIMEZONE
TZID:America/New_York
BEGIN:DAYLIGHT
TZOFFSETFROM:-0500
TZOFFSETTO:-0400
TZNAME:EDT
DTSTART:20240310T070000
END:DAYLIGHT
BEGIN:STANDARD
TZOFFSETFROM:-0400
TZOFFSETTO:-0500
TZNAME:EST
DTSTART:20241103T060000
END:STANDARD
BEGIN:DAYLIGHT
TZOFFSETFROM:-0500
TZOFFSETTO:-0400
TZNAME:EDT
DTSTART:20250309T070000
END:DAYLIGHT
BEGIN:STANDARD
TZOFFSETFROM:-0400
TZOFFSETTO:-0500
TZNAME:EST
DTSTART:20251102T060000
END:STANDARD
BEGIN:DAYLIGHT
TZOFFSETFROM:-0500
TZOFFSETTO:-0400
TZNAME:EDT
DTSTART:20260308T070000
END:DAYLIGHT
BEGIN:STANDARD
TZOFFSETFROM:-0400
TZOFFSETTO:-0500
TZNAME:EST
DTSTART:20261101T060000
END:STANDARD
END:VTIMEZONE
BEGIN:VEVENT
DTSTART;TZID=America/New_York:20250603T183000
DTEND;TZID=America/New_York:20250603T200000
DTSTAMP:20260420T214535
CREATED:20250527T011952Z
LAST-MODIFIED:20250527T011953Z
UID:11807-1748975400-1748980800@cambridgecommonwriters.org
SUMMARY:Jasminne Paulino launches "The Extraordinary Orbit of Alex Ramirez" with Lofty Pigeon Books
DESCRIPTION:Join Lofty Pigeon Books for the launch of The Extraordinary Orbit of Alex Ramirez\, Jasminne Paulino’s (WFYP\, June 2023) powerful debut novel in verse about a neurodivergent seventh grader who dreams of traveling to the stars one day. \n\n\n\nJasminne will be joined by New York Times–bestselling children’s author Michelle Knudsen (WFYP\, MFA Writing Faculty) for a reading\, conversation\, signing\, and reception. \n\n\n\n\n\n\n\nSeventh grader Alex’s favorite things to do are watching YouTube videos of rocket launches with his Papi and spending hours on the NASA website reading about astronauts and planets. He even dreams of going to space one day himself\, and knows he’ll have to study hard in order to get there. \n\n\n\nBut Alex is in his grade’s SC (self-contained) classroom\, which means doing the same dull worksheets every day and reading books his sister read back in the third grade. Worst of all\, being in SC means nobody thinks he’s ready to join Ms. Rosef’s mainstream science class—the class Alex knows will be the first step on his path to NASA. \n\n\n\nWhen his teacher says “not yet” for the millionth time\, Alex decides it’s time to make a change. Now he’s ready to try everything he can to get the people in his life—his teachers\, his parents\, and the kids at school—to understand that he\, Alex Ramirez\, is capable of the extraordinary.
URL:https://cambridgecommonwriters.org/calendar/jasminne-paulino-launches-the-extraordinary-orbit-of-alex-ramirez-with-lofty-pigeon-books/
LOCATION:Lofty Pigeon Books\, 743 Church Avenue\, Brooklyn\, New York\, 11218\, United States
CATEGORIES:Alum Event
ATTACH;FMTTYPE=image/jpeg:https://cambridgecommonwriters.org/wp-content/uploads/2025/05/Screenshot-2025-05-26-at-9.19.26 PM.jpg
ORGANIZER;CN="Lofty Pigeon Books":MAILTO:info@loftypigeonbooks.com
END:VEVENT
END:VCALENDAR