BEGIN:VCALENDAR
VERSION:2.0
PRODID:-//Cambridge Common Writers - ECPv6.15.20//NONSGML v1.0//EN
CALSCALE:GREGORIAN
METHOD:PUBLISH
X-ORIGINAL-URL:https://cambridgecommonwriters.org
X-WR-CALDESC:Events for Cambridge Common Writers
REFRESH-INTERVAL;VALUE=DURATION:PT1H
X-Robots-Tag:noindex
X-PUBLISHED-TTL:PT1H
BEGIN:VTIMEZONE
TZID:America/New_York
BEGIN:DAYLIGHT
TZOFFSETFROM:-0500
TZOFFSETTO:-0400
TZNAME:EDT
DTSTART:20240310T070000
END:DAYLIGHT
BEGIN:STANDARD
TZOFFSETFROM:-0400
TZOFFSETTO:-0500
TZNAME:EST
DTSTART:20241103T060000
END:STANDARD
BEGIN:DAYLIGHT
TZOFFSETFROM:-0500
TZOFFSETTO:-0400
TZNAME:EDT
DTSTART:20250309T070000
END:DAYLIGHT
BEGIN:STANDARD
TZOFFSETFROM:-0400
TZOFFSETTO:-0500
TZNAME:EST
DTSTART:20251102T060000
END:STANDARD
BEGIN:DAYLIGHT
TZOFFSETFROM:-0500
TZOFFSETTO:-0400
TZNAME:EDT
DTSTART:20260308T070000
END:DAYLIGHT
BEGIN:STANDARD
TZOFFSETFROM:-0400
TZOFFSETTO:-0500
TZNAME:EST
DTSTART:20261101T060000
END:STANDARD
END:VTIMEZONE
BEGIN:VEVENT
DTSTART;TZID=America/New_York:20250519T190000
DTEND;TZID=America/New_York:20250519T200000
DTSTAMP:20260421T000956
CREATED:20250503T222716Z
LAST-MODIFIED:20250503T222717Z
UID:11714-1747681200-1747684800@cambridgecommonwriters.org
SUMMARY:Suzanne Cope presents Women of War\, in conversation with Matthew Goodman
DESCRIPTION:Suzanne Cope (Nonfiction\, 2007) presents Women of War\, in conversation with Matthew Goodman. \n\n\n\nSuzanne Cope is a scholar and narrative journalist\, and is the author of Power Hungry: Women of the Black Panther Party and Freedom Summer and Their Fight to Feed a Movement. Her work on themes of political and social change\, feminism\, food\, and culture has appeared in The New York Times\, The Atlantic\, Los Angeles Review of Books\, Food & Wine\, the BBC\, The Washington Post\, Aeon\, and others. She is a professor at New York University. \n\n\n\nMatthew Goodman is a New York Times-bestselling author of five books: Paris Undercover: A Wartime Story of Courage\, Friendship\, and Betrayal (Ballantine Books\, 2025); The City Game: Triumph\, Scandal\, and a Legendary Basketball Team (Ballantine\, 2019); Eighty Days: Nellie Bly and Elizabeth Bisland’s History-Making Race Around the World (Ballantine\, 2013); The Sun and the Moon: Hoaxers\, Showmen\, Dueling Journalists\, and Lunar Man-Bats in Nineteenth-Century New York (Basic Books\, 2008); and Jewish Food: The World at Table (HarperCollins\, 2005).
URL:https://cambridgecommonwriters.org/calendar/suzanne-cope-presents-women-of-war-in-conversation-with-matthew-goodman/
LOCATION:Community Bookstore\, 143 Seventh Avenue\, Brooklyn\, New York\, 11215\, United States
CATEGORIES:Alum Event
ATTACH;FMTTYPE=image/jpeg:https://cambridgecommonwriters.org/wp-content/uploads/2025/03/Women-of-War.jpeg
ORGANIZER;CN="Community Bookstore":MAILTO:info@communitybookstore.net
END:VEVENT
END:VCALENDAR