BEGIN:VCALENDAR
VERSION:2.0
PRODID:-//Cambridge Common Writers - ECPv6.15.20//NONSGML v1.0//EN
CALSCALE:GREGORIAN
METHOD:PUBLISH
X-ORIGINAL-URL:https://cambridgecommonwriters.org
X-WR-CALDESC:Events for Cambridge Common Writers
REFRESH-INTERVAL;VALUE=DURATION:PT1H
X-Robots-Tag:noindex
X-PUBLISHED-TTL:PT1H
BEGIN:VTIMEZONE
TZID:America/New_York
BEGIN:DAYLIGHT
TZOFFSETFROM:-0500
TZOFFSETTO:-0400
TZNAME:EDT
DTSTART:20240310T070000
END:DAYLIGHT
BEGIN:STANDARD
TZOFFSETFROM:-0400
TZOFFSETTO:-0500
TZNAME:EST
DTSTART:20241103T060000
END:STANDARD
BEGIN:DAYLIGHT
TZOFFSETFROM:-0500
TZOFFSETTO:-0400
TZNAME:EDT
DTSTART:20250309T070000
END:DAYLIGHT
BEGIN:STANDARD
TZOFFSETFROM:-0400
TZOFFSETTO:-0500
TZNAME:EST
DTSTART:20251102T060000
END:STANDARD
BEGIN:DAYLIGHT
TZOFFSETFROM:-0500
TZOFFSETTO:-0400
TZNAME:EDT
DTSTART:20260308T070000
END:DAYLIGHT
BEGIN:STANDARD
TZOFFSETFROM:-0400
TZOFFSETTO:-0500
TZNAME:EST
DTSTART:20261101T060000
END:STANDARD
END:VTIMEZONE
BEGIN:VEVENT
DTSTART;TZID=America/New_York:20250513T190000
DTEND;TZID=America/New_York:20250513T210000
DTSTAMP:20260421T001034
CREATED:20250503T192043Z
LAST-MODIFIED:20250503T192044Z
UID:11634-1747162800-1747170000@cambridgecommonwriters.org
SUMMARY:Sweet Fierce Reads Romantasy Tour Stop with Mary E. Pearson\, Axie Oh\, and D.L. Taylor
DESCRIPTION:Eagle Eye Book Shop is partnering with Fierce Reads to host three amazing authors- Mary E. Pearson\, Axie Oh (WFYP\, June 2017)\, and D.L. Taylor. The conversation will be moderated by Librarian Jessi Dunlap. \n\n\n\n\n\n\n\nAbout the Authors\n\n\n\nMary E. Pearson is the author of many novels for teens\, including Dance of Thieves\, Vow of Thieves\, the New York Times–bestselling Remnant Chronicles—The Kiss of Deception\, The Heart of Betrayal\, and The Beauty of Darkness—and the acclaimed Jenna Fox Chronicles. She writes full-time from her home in Carlsbad\, California. \n\n\n\nAxie Oh is the New York Times bestselling author of The Girl Who Fell Beneath the Sea\, the Floating World duology\, XOXO and ASAP\, and the Rebel Seoul series. Born in New York City and raised in New Jersey\, she studied Korean history and creative writing as an undergrad at the University of California San Diego and holds an MFA in Writing for Young People from Lesley University. Her passions include K-pop\, anime\, stationery supplies\, and milk tea\, and she currently resides in Las Vegas\, Nevada\, with her dogs\, Toro and Leila. \n\n\n\nD.L. Taylor is an attorney by trade. She’s worked in criminal defense and civil non-profit law\, but writing has always had a special hold on her heart. Though she hails from the sunny lands of California\, she married a Midwestern boy and ended up settling down outside Chicago. She has three kids\, two cats\, and minimal sanity\, but in the quiet hours before dawn she likes to write about magic\, mischief\, and moral quandaries. The Beasts We Bury is her YA debut. \n\n\n\nJessi Dunlap taught high school English for 14 years before becoming a school librarian. She works at a middle school in the metro Atlanta area and loves cats\, puzzles\, and helping her students find their next favorite book. 
URL:https://cambridgecommonwriters.org/calendar/sweet-fierce-reads-romantasy-tour-stop-with-mary-e-pearson-axie-oh-and-d-l-taylor/
LOCATION:Eagle Eye Book Shop\, 2076 N. Decatur Road\, Decatur\, Georgia\, 30033-5306\, United States
CATEGORIES:Alum Event
ATTACH;FMTTYPE=image/jpeg:https://cambridgecommonwriters.org/wp-content/uploads/2025/05/Screenshot-2025-05-03-at-3.20.11 PM.jpg
ORGANIZER;CN="Eagle Eye Book Shop":MAILTO:orders@eagleeyebooks.com
END:VEVENT
END:VCALENDAR