BEGIN:VCALENDAR
VERSION:2.0
PRODID:-//Cambridge Common Writers - ECPv6.15.20//NONSGML v1.0//EN
CALSCALE:GREGORIAN
METHOD:PUBLISH
X-WR-CALNAME:Cambridge Common Writers
X-ORIGINAL-URL:https://cambridgecommonwriters.org
X-WR-CALDESC:Events for Cambridge Common Writers
REFRESH-INTERVAL;VALUE=DURATION:PT1H
X-Robots-Tag:noindex
X-PUBLISHED-TTL:PT1H
BEGIN:VTIMEZONE
TZID:America/New_York
BEGIN:DAYLIGHT
TZOFFSETFROM:-0500
TZOFFSETTO:-0400
TZNAME:EDT
DTSTART:20240310T070000
END:DAYLIGHT
BEGIN:STANDARD
TZOFFSETFROM:-0400
TZOFFSETTO:-0500
TZNAME:EST
DTSTART:20241103T060000
END:STANDARD
BEGIN:DAYLIGHT
TZOFFSETFROM:-0500
TZOFFSETTO:-0400
TZNAME:EDT
DTSTART:20250309T070000
END:DAYLIGHT
BEGIN:STANDARD
TZOFFSETFROM:-0400
TZOFFSETTO:-0500
TZNAME:EST
DTSTART:20251102T060000
END:STANDARD
BEGIN:DAYLIGHT
TZOFFSETFROM:-0500
TZOFFSETTO:-0400
TZNAME:EDT
DTSTART:20260308T070000
END:DAYLIGHT
BEGIN:STANDARD
TZOFFSETFROM:-0400
TZOFFSETTO:-0500
TZNAME:EST
DTSTART:20261101T060000
END:STANDARD
END:VTIMEZONE
BEGIN:VEVENT
DTSTART;TZID=America/New_York:20250504T100000
DTEND;TZID=America/New_York:20250504T110000
DTSTAMP:20260421T000636
CREATED:20250503T215856Z
LAST-MODIFIED:20250503T215858Z
UID:11702-1746352800-1746356400@cambridgecommonwriters.org
SUMMARY:Women of War: Author Talk with Suzanne Cope
DESCRIPTION:Join author Suzanne Cope (Nonfiction\, 2007)\, in conversation with Tracy Gates\, who will read from and discuss her new narrative nonfiction book\, Women of War: The Italian Assassins\, Spies\, and Couriers Who Fought the Nazis. \n\n\n\nReservations suggested. Brunch will be available to order. \n\n\n\nSuzanne Cope\, PhD is a narrative journalist and scholar\, author of WOMEN OF WAR: The Italian Assassins\, Spies and Couriers Who Fought the Nazis (Dutton\, 2025) and POWER HUNGRY: Women of the Black Panther Party and Freedom Summer and Their Fight to Feed a Movement (2021). She has published with The New York Times\, The Atlantic\, Washington Post\, CNN\, BBC\, among others. She is a professor at New York University and splits her time between Sullivan County and Brooklyn with her husband\, the musician Steve Mayone\, and her two children.
URL:https://cambridgecommonwriters.org/calendar/women-of-war-author-talk-with-suzanne-cope/
LOCATION:Seminary Hill Catskills\, 43 Wagner Lane\, Callicoon\, New York\, 12723\, United States
CATEGORIES:Alum Event
ATTACH;FMTTYPE=image/jpeg:https://cambridgecommonwriters.org/wp-content/uploads/2025/03/Women-of-War.jpeg
ORGANIZER;CN="Seminary Hill Catskills":MAILTO:events@seminaryhill.co
END:VEVENT
END:VCALENDAR