BEGIN:VCALENDAR
VERSION:2.0
PRODID:-//Cambridge Common Writers - ECPv6.15.20//NONSGML v1.0//EN
CALSCALE:GREGORIAN
METHOD:PUBLISH
X-WR-CALNAME:Cambridge Common Writers
X-ORIGINAL-URL:https://cambridgecommonwriters.org
X-WR-CALDESC:Events for Cambridge Common Writers
REFRESH-INTERVAL;VALUE=DURATION:PT1H
X-Robots-Tag:noindex
X-PUBLISHED-TTL:PT1H
BEGIN:VTIMEZONE
TZID:America/New_York
BEGIN:DAYLIGHT
TZOFFSETFROM:-0500
TZOFFSETTO:-0400
TZNAME:EDT
DTSTART:20240310T070000
END:DAYLIGHT
BEGIN:STANDARD
TZOFFSETFROM:-0400
TZOFFSETTO:-0500
TZNAME:EST
DTSTART:20241103T060000
END:STANDARD
BEGIN:DAYLIGHT
TZOFFSETFROM:-0500
TZOFFSETTO:-0400
TZNAME:EDT
DTSTART:20250309T070000
END:DAYLIGHT
BEGIN:STANDARD
TZOFFSETFROM:-0400
TZOFFSETTO:-0500
TZNAME:EST
DTSTART:20251102T060000
END:STANDARD
BEGIN:DAYLIGHT
TZOFFSETFROM:-0500
TZOFFSETTO:-0400
TZNAME:EDT
DTSTART:20260308T070000
END:DAYLIGHT
BEGIN:STANDARD
TZOFFSETFROM:-0400
TZOFFSETTO:-0500
TZNAME:EST
DTSTART:20261101T060000
END:STANDARD
END:VTIMEZONE
BEGIN:VTIMEZONE
TZID:America/Los_Angeles
BEGIN:DAYLIGHT
TZOFFSETFROM:-0800
TZOFFSETTO:-0700
TZNAME:PDT
DTSTART:20240310T100000
END:DAYLIGHT
BEGIN:STANDARD
TZOFFSETFROM:-0700
TZOFFSETTO:-0800
TZNAME:PST
DTSTART:20241103T090000
END:STANDARD
BEGIN:DAYLIGHT
TZOFFSETFROM:-0800
TZOFFSETTO:-0700
TZNAME:PDT
DTSTART:20250309T100000
END:DAYLIGHT
BEGIN:STANDARD
TZOFFSETFROM:-0700
TZOFFSETTO:-0800
TZNAME:PST
DTSTART:20251102T090000
END:STANDARD
BEGIN:DAYLIGHT
TZOFFSETFROM:-0800
TZOFFSETTO:-0700
TZNAME:PDT
DTSTART:20260308T100000
END:DAYLIGHT
BEGIN:STANDARD
TZOFFSETFROM:-0700
TZOFFSETTO:-0800
TZNAME:PST
DTSTART:20261101T090000
END:STANDARD
END:VTIMEZONE
BEGIN:VEVENT
DTSTART;TZID=America/New_York:20250417T190000
DTEND;TZID=America/New_York:20250417T200000
DTSTAMP:20260421T020242
CREATED:20250307T021509Z
LAST-MODIFIED:20250307T021512Z
UID:11442-1744916400-1744920000@cambridgecommonwriters.org
SUMMARY:Cambridge Common Writers Presents: moon moon by July Westhale\, Book Launch
DESCRIPTION:Join us for a virtual celebration of July Westhale’s (Poetry\, June 2013) latest poetry collection\, moon moon! Registration required. \n\n\n\n\n\n\n\nA moon’s moon may or may not be the astronomically accurate descriptor of a moon that orbits another moon. Whether rooted in logic or merely a cosmically precise description of “space trash”\, moon moon is a collection that observes worlds: above\, below\, and inside of. Rife with chaotic eco grief\, undercut with dark humor and strangeness. (Whitney Houston as two oracles to the moon of the moon\, humans as gods as humans again.) It takes us from the world to the moon\, to the moon of the moon\, and back again–sometimes scientifically\, often experientially\, and always obsessively. It is a collection for anyone who holds curiosity\, exploration\, and the existentialism of climate change simultaneously. It is for the truest astronauts among us.
URL:https://cambridgecommonwriters.org/calendar/cambridge-common-writers-presents-moon-moon-by-july-westhale-book-launch/
LOCATION:Online Zoom Event
CATEGORIES:Alum Event,CCW Event
ATTACH;FMTTYPE=image/jpeg:https://cambridgecommonwriters.org/wp-content/uploads/2025/03/2025-CCW-Book-Launches.jpg
ORGANIZER;CN="Cambridge Common Writers":MAILTO:lesleycambridgecommon@gmail.com
END:VEVENT
BEGIN:VEVENT
DTSTART;TZID=America/Los_Angeles:20250417T190000
DTEND;TZID=America/Los_Angeles:20250417T200000
DTSTAMP:20260421T020242
CREATED:20250401T011238Z
LAST-MODIFIED:20250401T011239Z
UID:11551-1744916400-1744920000@cambridgecommonwriters.org
SUMMARY:Hayley Krischer in Conversation with Raegan Revord to Celebrate You Belong to Me
DESCRIPTION:Visit Annabelle’s Book Club LA for a book signing with Hayley Krischer (Fiction\, June 2009) in conversation with Raegan Revord about Hayley’s new book\, You Belong to Me.
URL:https://cambridgecommonwriters.org/calendar/hayley-krischer-in-conversation-with-raegan-revord-to-celebrate-you-belong-to-me/
LOCATION:Annabelle’s Book Club LA\, 12200 Ventura Boulevard\, Studio City\, California\, 91604\, United States
CATEGORIES:Alum Event
ATTACH;FMTTYPE=image/jpeg:https://cambridgecommonwriters.org/wp-content/uploads/2025/02/You-Belong-to-Me.jpg
END:VEVENT
END:VCALENDAR