BEGIN:VCALENDAR
VERSION:2.0
PRODID:-//Cambridge Common Writers - ECPv6.15.20//NONSGML v1.0//EN
CALSCALE:GREGORIAN
METHOD:PUBLISH
X-WR-CALNAME:Cambridge Common Writers
X-ORIGINAL-URL:https://cambridgecommonwriters.org
X-WR-CALDESC:Events for Cambridge Common Writers
REFRESH-INTERVAL;VALUE=DURATION:PT1H
X-Robots-Tag:noindex
X-PUBLISHED-TTL:PT1H
BEGIN:VTIMEZONE
TZID:America/New_York
BEGIN:DAYLIGHT
TZOFFSETFROM:-0500
TZOFFSETTO:-0400
TZNAME:EDT
DTSTART:20240310T070000
END:DAYLIGHT
BEGIN:STANDARD
TZOFFSETFROM:-0400
TZOFFSETTO:-0500
TZNAME:EST
DTSTART:20241103T060000
END:STANDARD
BEGIN:DAYLIGHT
TZOFFSETFROM:-0500
TZOFFSETTO:-0400
TZNAME:EDT
DTSTART:20250309T070000
END:DAYLIGHT
BEGIN:STANDARD
TZOFFSETFROM:-0400
TZOFFSETTO:-0500
TZNAME:EST
DTSTART:20251102T060000
END:STANDARD
BEGIN:DAYLIGHT
TZOFFSETFROM:-0500
TZOFFSETTO:-0400
TZNAME:EDT
DTSTART:20260308T070000
END:DAYLIGHT
BEGIN:STANDARD
TZOFFSETFROM:-0400
TZOFFSETTO:-0500
TZNAME:EST
DTSTART:20261101T060000
END:STANDARD
END:VTIMEZONE
BEGIN:VEVENT
DTSTART;TZID=America/New_York:20250315T110000
DTEND;TZID=America/New_York:20250315T120000
DTSTAMP:20260421T041606
CREATED:20250128T234022Z
LAST-MODIFIED:20250129T000040Z
UID:11188-1742036400-1742040000@cambridgecommonwriters.org
SUMMARY:Story Time with Sara Levine\, author of Hello Dog / Hello Human
DESCRIPTION:Porter Square Books is delighted to welcome picture book author Sara Levine (Nonfiction/WFYP\, January 2006) for a story time featuring her book Hello Dog / Hello Human! RSVP requested. \n\n\n\n\n\n\n\nLearn how to properly introduce yourself to a dog or human in this enticing flip book guide that is two stories in one\, perfect for fans of MAY I PET YOUR DOG?\, TAILS ARE NOT FOR PULLING\, and all dog-lovers. \n\n\n\nA clever\, useful how-to flip book guide for both humans and our canine best friends\, Hello Dog / Hello Human offers advice to little humans (and dogs) on how to politely introduce themselves. \n\n\n\nThe book opens with a primer on how little humans should interact with dogs. Flip the book and find another story that advises dogs on how to interact with humans\, offering a fun insight into a dog’s mind while also providing additional information and empathy for our four-legged friends. \n\n\n\nThis delightful guide encourages readers to properly interact with the furry companions\, and the format is perfect for younger hands\, robust and ready to be read and shared. With a charming cast of dogs\, sweet art\, and a fun special format\, this is the perfect gift book for families looking to adopt a furry friend\, or anyone who wants to celebrate our canine pals.
URL:https://cambridgecommonwriters.org/calendar/story-time-with-sara-levine-author-of-hello-dog-hello-human/
LOCATION:Porter Square Books\, 1815 Massachusetts Ave\, Cambridge\, Massachusetts\, 02140\, United States
CATEGORIES:Alum Event
ATTACH;FMTTYPE=image/jpeg:https://cambridgecommonwriters.org/wp-content/uploads/2025/01/Hello-Dog.jpg
ORGANIZER;CN="Porter Square Books":MAILTO:INFO@PORTERSQUAREBOOKS.COM
END:VEVENT
END:VCALENDAR