BEGIN:VCALENDAR
VERSION:2.0
PRODID:-//Cambridge Common Writers - ECPv6.15.20//NONSGML v1.0//EN
CALSCALE:GREGORIAN
METHOD:PUBLISH
X-WR-CALNAME:Cambridge Common Writers
X-ORIGINAL-URL:https://cambridgecommonwriters.org
X-WR-CALDESC:Events for Cambridge Common Writers
REFRESH-INTERVAL;VALUE=DURATION:PT1H
X-Robots-Tag:noindex
X-PUBLISHED-TTL:PT1H
BEGIN:VTIMEZONE
TZID:America/New_York
BEGIN:DAYLIGHT
TZOFFSETFROM:-0500
TZOFFSETTO:-0400
TZNAME:EDT
DTSTART:20240310T070000
END:DAYLIGHT
BEGIN:STANDARD
TZOFFSETFROM:-0400
TZOFFSETTO:-0500
TZNAME:EST
DTSTART:20241103T060000
END:STANDARD
BEGIN:DAYLIGHT
TZOFFSETFROM:-0500
TZOFFSETTO:-0400
TZNAME:EDT
DTSTART:20250309T070000
END:DAYLIGHT
BEGIN:STANDARD
TZOFFSETFROM:-0400
TZOFFSETTO:-0500
TZNAME:EST
DTSTART:20251102T060000
END:STANDARD
BEGIN:DAYLIGHT
TZOFFSETFROM:-0500
TZOFFSETTO:-0400
TZNAME:EDT
DTSTART:20260308T070000
END:DAYLIGHT
BEGIN:STANDARD
TZOFFSETFROM:-0400
TZOFFSETTO:-0500
TZNAME:EST
DTSTART:20261101T060000
END:STANDARD
END:VTIMEZONE
BEGIN:VEVENT
DTSTART;TZID=America/New_York:20250131T183000
DTEND;TZID=America/New_York:20250131T190000
DTSTAMP:20260421T060141
CREATED:20250129T000015Z
LAST-MODIFIED:20250129T000018Z
UID:11191-1738348200-1738350000@cambridgecommonwriters.org
SUMMARY:Author Night Thrillers Panel: Alafair Burke\, TR Hendricks\, Vanessa Cuti\, and Hayley Krishcher
DESCRIPTION:Join authors Alafair Burke\, TR Hendricks\, Vanessa Cuti\, and Hayley Krisher (Fiction\, June 2009) at the Venetian Room in the Lindenhurst Memorial Library for their discussion of the suspense fiction writing process. 
URL:https://cambridgecommonwriters.org/calendar/author-night-thrillers-panel-alafair-burke-tr-hendricks-vanessa-cuti-and-hayley-krishcher/
LOCATION:Lindenhurst Memorial Library\, 1 Lee Avenue\, Lindenhurst\, New York\, 11757\, United States
CATEGORIES:Alum Event
ATTACH;FMTTYPE=image/jpeg:https://cambridgecommonwriters.org/wp-content/uploads/2025/01/Screenshot-2025-01-28-at-7.00.03 PM.jpg
END:VEVENT
END:VCALENDAR