BEGIN:VCALENDAR
VERSION:2.0
PRODID:-//Cambridge Common Writers - ECPv6.15.20//NONSGML v1.0//EN
CALSCALE:GREGORIAN
METHOD:PUBLISH
X-WR-CALNAME:Cambridge Common Writers
X-ORIGINAL-URL:https://cambridgecommonwriters.org
X-WR-CALDESC:Events for Cambridge Common Writers
REFRESH-INTERVAL;VALUE=DURATION:PT1H
X-Robots-Tag:noindex
X-PUBLISHED-TTL:PT1H
BEGIN:VTIMEZONE
TZID:America/New_York
BEGIN:DAYLIGHT
TZOFFSETFROM:-0500
TZOFFSETTO:-0400
TZNAME:EDT
DTSTART:20230312T070000
END:DAYLIGHT
BEGIN:STANDARD
TZOFFSETFROM:-0400
TZOFFSETTO:-0500
TZNAME:EST
DTSTART:20231105T060000
END:STANDARD
BEGIN:DAYLIGHT
TZOFFSETFROM:-0500
TZOFFSETTO:-0400
TZNAME:EDT
DTSTART:20240310T070000
END:DAYLIGHT
BEGIN:STANDARD
TZOFFSETFROM:-0400
TZOFFSETTO:-0500
TZNAME:EST
DTSTART:20241103T060000
END:STANDARD
BEGIN:DAYLIGHT
TZOFFSETFROM:-0500
TZOFFSETTO:-0400
TZNAME:EDT
DTSTART:20250309T070000
END:DAYLIGHT
BEGIN:STANDARD
TZOFFSETFROM:-0400
TZOFFSETTO:-0500
TZNAME:EST
DTSTART:20251102T060000
END:STANDARD
END:VTIMEZONE
BEGIN:VEVENT
DTSTART;TZID=America/New_York:20241210T193000
DTEND;TZID=America/New_York:20241210T203000
DTSTAMP:20260421T093721
CREATED:20241201T183249Z
LAST-MODIFIED:20241201T183250Z
UID:11009-1733859000-1733862600@cambridgecommonwriters.org
SUMMARY:What The Universe Is: Carl Phillips and Erin Belieu
DESCRIPTION:Join the final session of the 2024 season of What The Universe Is: A (Virtual) Reading Series hosted by Michael Mercurio (Poet\, January 2017) and featured poets Carl Phillips and Erin Belieu (Poetry\, MFA Writing Faculty). 
URL:https://cambridgecommonwriters.org/calendar/what-the-universe-is-carl-phillips-and-erin-belieu/
LOCATION:Online Zoom Event
CATEGORIES:Alum Event,Mentor Event
ATTACH;FMTTYPE=image/jpeg:https://cambridgecommonwriters.org/wp-content/uploads/2024/12/Screenshot-2024-12-01-at-1.32.21 PM.jpg
END:VEVENT
END:VCALENDAR