BEGIN:VCALENDAR
VERSION:2.0
PRODID:-//Cambridge Common Writers - ECPv6.15.20//NONSGML v1.0//EN
CALSCALE:GREGORIAN
METHOD:PUBLISH
X-ORIGINAL-URL:https://cambridgecommonwriters.org
X-WR-CALDESC:Events for Cambridge Common Writers
REFRESH-INTERVAL;VALUE=DURATION:PT1H
X-Robots-Tag:noindex
X-PUBLISHED-TTL:PT1H
BEGIN:VTIMEZONE
TZID:America/New_York
BEGIN:DAYLIGHT
TZOFFSETFROM:-0500
TZOFFSETTO:-0400
TZNAME:EDT
DTSTART:20230312T070000
END:DAYLIGHT
BEGIN:STANDARD
TZOFFSETFROM:-0400
TZOFFSETTO:-0500
TZNAME:EST
DTSTART:20231105T060000
END:STANDARD
BEGIN:DAYLIGHT
TZOFFSETFROM:-0500
TZOFFSETTO:-0400
TZNAME:EDT
DTSTART:20240310T070000
END:DAYLIGHT
BEGIN:STANDARD
TZOFFSETFROM:-0400
TZOFFSETTO:-0500
TZNAME:EST
DTSTART:20241103T060000
END:STANDARD
BEGIN:DAYLIGHT
TZOFFSETFROM:-0500
TZOFFSETTO:-0400
TZNAME:EDT
DTSTART:20250309T070000
END:DAYLIGHT
BEGIN:STANDARD
TZOFFSETFROM:-0400
TZOFFSETTO:-0500
TZNAME:EST
DTSTART:20251102T060000
END:STANDARD
END:VTIMEZONE
BEGIN:VEVENT
DTSTART;TZID=America/New_York:20240917T180000
DTEND;TZID=America/New_York:20240917T190000
DTSTAMP:20260421T154454
CREATED:20240917T001753Z
LAST-MODIFIED:20240917T001755Z
UID:10718-1726596000-1726599600@cambridgecommonwriters.org
SUMMARY:The Golden Land of Myanmar with author Elizabeth Shick at Vineyard Haven Library
DESCRIPTION:Join the Friends of the Vineyard Haven Library for an author talk celebrating the release of The Golden Land\, the debut novel by the library’s new adult program coordinator\, Elizabeth (Liz) Shick (Fiction\, January 2019). Winner of the AWP Prize for the Novel\, The Golden Land is an intergenerational tale set against the backdrop of Myanmar that explores the complexities of family history and relationships. Liz will talk about the six years she lived in Myanmar and how those experiences inspired her to write The Golden Land.
URL:https://cambridgecommonwriters.org/calendar/the-golden-land-of-myanmar-with-author-elizabeth-shick-at-vineyard-haven-library/
LOCATION:Vineyard Haven Library\, 200 Main Street\, Vineyard Haven\, Massachusetts\, 02568\, United States
CATEGORIES:Alum Event
ATTACH;FMTTYPE=image/jpeg:https://cambridgecommonwriters.org/wp-content/uploads/2024/05/The-Golden-Land-2024.jpg
END:VEVENT
END:VCALENDAR