BEGIN:VCALENDAR
VERSION:2.0
PRODID:-//Cambridge Common Writers - ECPv6.15.20//NONSGML v1.0//EN
CALSCALE:GREGORIAN
METHOD:PUBLISH
X-WR-CALNAME:Cambridge Common Writers
X-ORIGINAL-URL:https://cambridgecommonwriters.org
X-WR-CALDESC:Events for Cambridge Common Writers
REFRESH-INTERVAL;VALUE=DURATION:PT1H
X-Robots-Tag:noindex
X-PUBLISHED-TTL:PT1H
BEGIN:VTIMEZONE
TZID:America/New_York
BEGIN:DAYLIGHT
TZOFFSETFROM:-0500
TZOFFSETTO:-0400
TZNAME:EDT
DTSTART:20230312T070000
END:DAYLIGHT
BEGIN:STANDARD
TZOFFSETFROM:-0400
TZOFFSETTO:-0500
TZNAME:EST
DTSTART:20231105T060000
END:STANDARD
BEGIN:DAYLIGHT
TZOFFSETFROM:-0500
TZOFFSETTO:-0400
TZNAME:EDT
DTSTART:20240310T070000
END:DAYLIGHT
BEGIN:STANDARD
TZOFFSETFROM:-0400
TZOFFSETTO:-0500
TZNAME:EST
DTSTART:20241103T060000
END:STANDARD
BEGIN:DAYLIGHT
TZOFFSETFROM:-0500
TZOFFSETTO:-0400
TZNAME:EDT
DTSTART:20250309T070000
END:DAYLIGHT
BEGIN:STANDARD
TZOFFSETFROM:-0400
TZOFFSETTO:-0500
TZNAME:EST
DTSTART:20251102T060000
END:STANDARD
END:VTIMEZONE
BEGIN:VEVENT
DTSTART;TZID=America/New_York:20240817T090000
DTEND;TZID=America/New_York:20240818T193000
DTSTAMP:20260421T173423
CREATED:20240816T234128Z
LAST-MODIFIED:20240816T234131Z
UID:10564-1723885200-1724009400@cambridgecommonwriters.org
SUMMARY:The 14th Annual African Festival of Boston
DESCRIPTION:Come visit the Boston Common for a day filled with vibrant music\, delicious food\, and colorful cultural performances. This in-person event celebrates the rich diversity of African heritage in Boston with live music\, dance\, art\, and more. \n\n\n\nWSS Alum Thato Mwosa (June 2017) author of 14 African Women Who Made History is one of the showcased authors for the event. \n\n\n\nExperience the rhythms of Africa through traditional drumming\, get lost in the intricate beadwork of local artisans\, and savor the flavors of authentic African cuisine. Whether you’re a longtime fan of African culture or just looking for a fun day out\, there’s something for everyone at the African Festival of Boston. \n\n\n\nDon’t miss out on this opportunity to celebrate and connect with the African community in Boston. Mark your calendars and get ready for a day full of excitement and joy!
URL:https://cambridgecommonwriters.org/calendar/the-14th-annual-african-festival-of-boston/
LOCATION:Boston Common\, Boston\, Massachusetts\, 02111\, United States
CATEGORIES:Alum Event
ATTACH;FMTTYPE=image/jpeg:https://cambridgecommonwriters.org/wp-content/uploads/2021/01/thatomwosa-playwright-scaled.jpg
END:VEVENT
END:VCALENDAR