BEGIN:VCALENDAR
VERSION:2.0
PRODID:-//Cambridge Common Writers - ECPv6.15.20//NONSGML v1.0//EN
CALSCALE:GREGORIAN
METHOD:PUBLISH
X-ORIGINAL-URL:https://cambridgecommonwriters.org
X-WR-CALDESC:Events for Cambridge Common Writers
REFRESH-INTERVAL;VALUE=DURATION:PT1H
X-Robots-Tag:noindex
X-PUBLISHED-TTL:PT1H
BEGIN:VTIMEZONE
TZID:America/New_York
BEGIN:DAYLIGHT
TZOFFSETFROM:-0500
TZOFFSETTO:-0400
TZNAME:EDT
DTSTART:20230312T070000
END:DAYLIGHT
BEGIN:STANDARD
TZOFFSETFROM:-0400
TZOFFSETTO:-0500
TZNAME:EST
DTSTART:20231105T060000
END:STANDARD
BEGIN:DAYLIGHT
TZOFFSETFROM:-0500
TZOFFSETTO:-0400
TZNAME:EDT
DTSTART:20240310T070000
END:DAYLIGHT
BEGIN:STANDARD
TZOFFSETFROM:-0400
TZOFFSETTO:-0500
TZNAME:EST
DTSTART:20241103T060000
END:STANDARD
BEGIN:DAYLIGHT
TZOFFSETFROM:-0500
TZOFFSETTO:-0400
TZNAME:EDT
DTSTART:20250309T070000
END:DAYLIGHT
BEGIN:STANDARD
TZOFFSETFROM:-0400
TZOFFSETTO:-0500
TZNAME:EST
DTSTART:20251102T060000
END:STANDARD
END:VTIMEZONE
BEGIN:VEVENT
DTSTART;TZID=America/New_York:20240714T160000
DTEND;TZID=America/New_York:20240714T170000
DTSTAMP:20260421T194538
CREATED:20240627T163439Z
LAST-MODIFIED:20240627T163443Z
UID:10329-1720972800-1720976400@cambridgecommonwriters.org
SUMMARY:Gallery of Readers Press Presents Switch: Anthology of Micro Fiction - Book Launch Celebration and Reading
DESCRIPTION:Join Gallery of Readers Press for the launch of Switch: Anthology of Micro Fiction at Eli’s Room\, Center for the Arts. Copies of the book may be ordered in advance\, and donations are encouraged. \n\n\n\nContributors: Kathryn M. Arbour\, Robin Barber\, Nancy Barnes\, Patricia Bender\, Patricia Quintana Bidar\, Robin Bissett\, James Brunel\, John M. Corbett\, Tommy Dean\, Salvatore Difalco\, Carol Edelstein\, Ann Fisher\, Frances Gapper\, Opal Gayle\, Elizabeth M. George\, Diane D. Gillette\, Beth Gordon\, Andrea Hansell\, Jennifer Jacobson\, Celia Jeffries (Fiction/Nonfiction\, 2008)\, E.P. La Brecque\, Karen Loeb\, Barbara Lucey\, Toni Montuori\, Damhuri Muhammad\, Nora Nadjarian\, Rina Palumbo\, Meg Pokrass\, Lisa Schamess\, Sharon White\, and Thomas Reed Willemain.
URL:https://cambridgecommonwriters.org/calendar/gallery-of-readers-press-presents-switch-anthology-of-micro-fiction-book-launch-celebration-and-reading/
LOCATION:Northampton Center for the Arts\, 33 Hawley St\, Northampton\, Massachusetts\, 01060\, United States
CATEGORIES:Alum Event
ATTACH;FMTTYPE=image/jpeg:https://cambridgecommonwriters.org/wp-content/uploads/2024/06/Switch.jpg
END:VEVENT
END:VCALENDAR