BEGIN:VCALENDAR
VERSION:2.0
PRODID:-//Cambridge Common Writers - ECPv6.15.20//NONSGML v1.0//EN
CALSCALE:GREGORIAN
METHOD:PUBLISH
X-ORIGINAL-URL:https://cambridgecommonwriters.org
X-WR-CALDESC:Events for Cambridge Common Writers
REFRESH-INTERVAL;VALUE=DURATION:PT1H
X-Robots-Tag:noindex
X-PUBLISHED-TTL:PT1H
BEGIN:VTIMEZONE
TZID:America/New_York
BEGIN:DAYLIGHT
TZOFFSETFROM:-0500
TZOFFSETTO:-0400
TZNAME:EDT
DTSTART:20230312T070000
END:DAYLIGHT
BEGIN:STANDARD
TZOFFSETFROM:-0400
TZOFFSETTO:-0500
TZNAME:EST
DTSTART:20231105T060000
END:STANDARD
BEGIN:DAYLIGHT
TZOFFSETFROM:-0500
TZOFFSETTO:-0400
TZNAME:EDT
DTSTART:20240310T070000
END:DAYLIGHT
BEGIN:STANDARD
TZOFFSETFROM:-0400
TZOFFSETTO:-0500
TZNAME:EST
DTSTART:20241103T060000
END:STANDARD
BEGIN:DAYLIGHT
TZOFFSETFROM:-0500
TZOFFSETTO:-0400
TZNAME:EDT
DTSTART:20250309T070000
END:DAYLIGHT
BEGIN:STANDARD
TZOFFSETFROM:-0400
TZOFFSETTO:-0500
TZNAME:EST
DTSTART:20251102T060000
END:STANDARD
END:VTIMEZONE
BEGIN:VEVENT
DTSTART;TZID=America/New_York:20240618T180000
DTEND;TZID=America/New_York:20240618T193000
DTSTAMP:20260421T214049
CREATED:20240606T180132Z
LAST-MODIFIED:20240606T180135Z
UID:10279-1718733600-1718739000@cambridgecommonwriters.org
SUMMARY:Who Am I: The Music and Meaning of Stream-of-Consciousness with Angelo D'Amato
DESCRIPTION:In this course\, led by Angelo D’Amato (Fiction\, June 2020)\, will look at William Faulkner’s “The Sound and the Fury\,” Virginia Woolf’s “The Waves\,” and excerpts from James Joyce’s “Ulysses” and “Finnegans Wake\,” to understand how this technique challenges how we make meaning of the world\, and how we can harness it to create a music that is entirely our own. At the end of the class\, students will have produced either a short story\, an excerpt from a larger story\, or a portfolio of smaller exercises. \n\n\n\nThis class will meet in-person at CCAE on Tuesdays for 8 weeks. Limited availability.
URL:https://cambridgecommonwriters.org/calendar/who-am-i-the-music-and-meaning-of-stream-of-consciousness-with-angelo-damato/
LOCATION:Cambridge Center for Adult Education\, 42 Brattle Street\, Cambridge\, Massachusetts\, 02138\, United States
CATEGORIES:Alum Event
ATTACH;FMTTYPE=image/jpeg:https://cambridgecommonwriters.org/wp-content/uploads/2022/10/Angelo-DAmato.jpg
ORGANIZER;CN="Cambridge Center for Adult Education":MAILTO:info@ccae.org
END:VEVENT
END:VCALENDAR