BEGIN:VCALENDAR
VERSION:2.0
PRODID:-//Cambridge Common Writers - ECPv6.15.20//NONSGML v1.0//EN
CALSCALE:GREGORIAN
METHOD:PUBLISH
X-WR-CALNAME:Cambridge Common Writers
X-ORIGINAL-URL:https://cambridgecommonwriters.org
X-WR-CALDESC:Events for Cambridge Common Writers
REFRESH-INTERVAL;VALUE=DURATION:PT1H
X-Robots-Tag:noindex
X-PUBLISHED-TTL:PT1H
BEGIN:VTIMEZONE
TZID:America/New_York
BEGIN:DAYLIGHT
TZOFFSETFROM:-0500
TZOFFSETTO:-0400
TZNAME:EDT
DTSTART:20230312T070000
END:DAYLIGHT
BEGIN:STANDARD
TZOFFSETFROM:-0400
TZOFFSETTO:-0500
TZNAME:EST
DTSTART:20231105T060000
END:STANDARD
BEGIN:DAYLIGHT
TZOFFSETFROM:-0500
TZOFFSETTO:-0400
TZNAME:EDT
DTSTART:20240310T070000
END:DAYLIGHT
BEGIN:STANDARD
TZOFFSETFROM:-0400
TZOFFSETTO:-0500
TZNAME:EST
DTSTART:20241103T060000
END:STANDARD
BEGIN:DAYLIGHT
TZOFFSETFROM:-0500
TZOFFSETTO:-0400
TZNAME:EDT
DTSTART:20250309T070000
END:DAYLIGHT
BEGIN:STANDARD
TZOFFSETFROM:-0400
TZOFFSETTO:-0500
TZNAME:EST
DTSTART:20251102T060000
END:STANDARD
END:VTIMEZONE
BEGIN:VTIMEZONE
TZID:America/Los_Angeles
BEGIN:DAYLIGHT
TZOFFSETFROM:-0800
TZOFFSETTO:-0700
TZNAME:PDT
DTSTART:20230312T100000
END:DAYLIGHT
BEGIN:STANDARD
TZOFFSETFROM:-0700
TZOFFSETTO:-0800
TZNAME:PST
DTSTART:20231105T090000
END:STANDARD
BEGIN:DAYLIGHT
TZOFFSETFROM:-0800
TZOFFSETTO:-0700
TZNAME:PDT
DTSTART:20240310T100000
END:DAYLIGHT
BEGIN:STANDARD
TZOFFSETFROM:-0700
TZOFFSETTO:-0800
TZNAME:PST
DTSTART:20241103T090000
END:STANDARD
BEGIN:DAYLIGHT
TZOFFSETFROM:-0800
TZOFFSETTO:-0700
TZNAME:PDT
DTSTART:20250309T100000
END:DAYLIGHT
BEGIN:STANDARD
TZOFFSETFROM:-0700
TZOFFSETTO:-0800
TZNAME:PST
DTSTART:20251102T090000
END:STANDARD
END:VTIMEZONE
BEGIN:VEVENT
DTSTART;TZID=America/New_York:20240424T080000
DTEND;TZID=America/New_York:20240426T170000
DTSTAMP:20260422T011702
CREATED:20240424T212449Z
LAST-MODIFIED:20240424T212450Z
UID:10139-1713945600-1714150800@cambridgecommonwriters.org
SUMMARY:It’s Your Mug 30th Anniversary Celebration
DESCRIPTION:From February 1994 to August 1996\, the Tuesday night open mic at It’s Your Mug was a community event that had a lasting impact on Washington’s poetry scene that continues to impact American poetry. Celebrate the event’s 30th anniversary with original host and founder Toni Asante Lightfoot\, and a group of Mug regulars including Toni Blackman\, Kenny Carroll\, Lisa Pegram (Poetry\, June 2012)\, Patrick Washington\, Holly Bass\, and Twain Dooley with live jazz accompaniment. \n\n\n\nThis event will be both in-person and livestreamed.
URL:https://cambridgecommonwriters.org/calendar/its-your-mug-30th-anniversary-celebration/
LOCATION:The Kennedy Center\, 2700 F St NW\, Washington\, District of Columbia\, 20566\, United States
CATEGORIES:Alum Event
ATTACH;FMTTYPE=image/png:https://cambridgecommonwriters.org/wp-content/uploads/2020/11/LisaPegram-headshot.png
END:VEVENT
BEGIN:VEVENT
DTSTART;TZID=America/Los_Angeles:20240425T170000
DTEND;TZID=America/Los_Angeles:20240425T180000
DTSTAMP:20260422T011702
CREATED:20240407T010650Z
LAST-MODIFIED:20240407T010654Z
UID:10073-1714064400-1714068000@cambridgecommonwriters.org
SUMMARY:Serabelle Book Launch with Tavi Taylor Black
DESCRIPTION:Join Tavi Taylor Black for the book launch of her new historical fiction novel\, Serabelle\, at the Vashon Bookshop.
URL:https://cambridgecommonwriters.org/calendar/serabelle-book-launch-with-tavi-taylor-black/
LOCATION:Vashon Bookshop\, 17612 Vashon Hwy. SW\, Vashon\, Washington\, 98070\, United States
CATEGORIES:Alum Event
ATTACH;FMTTYPE=image/png:https://cambridgecommonwriters.org/wp-content/uploads/2024/03/Serabelle.png
ORGANIZER;CN="Vashon Bookshop":MAILTO:vashonbookshop@gmail.com
END:VEVENT
BEGIN:VEVENT
DTSTART;TZID=America/New_York:20240425T183000
DTEND;TZID=America/New_York:20240425T200000
DTSTAMP:20260422T011702
CREATED:20240413T003232Z
LAST-MODIFIED:20240413T003233Z
UID:10106-1714069800-1714075200@cambridgecommonwriters.org
SUMMARY:Author Event: Jody Hobbs Hesler & BettyJoyce Nash
DESCRIPTION:Join Jody Hobbs Hesler (Fiction\, June 2017) for a book reading featuring author BettyJoyce Nash. \n\n\n\nJody Hobbs Hesler has written ever since she could hold a pencil and now lives and writes in the foothills of the Blue Ridge Mountains. Growing up\, she split time between suburban Richmond\, Virginia\, and the mountains outside Winchester\, Virginia. Experiences of all these regions flavor her writing. Her debut story collection\, What Makes You Think You’re Supposed to Feel Better  (Cornerstone Press) is now available\, and her debut novel\, Without You Here  (Flexible Press) is forthcoming September 10\, 2024. She  teaches at WriterHouse in Charlottesville\, Virginia\, and serves as assistant fiction editor for The Los Angeles Review. \n\n\n\nLight refreshments will be served. RSVP Required.
URL:https://cambridgecommonwriters.org/calendar/author-event-jody-hobbs-hesler-bettyjoyce-nash/
LOCATION:Bluebird & Co\, 5792 Three Notched Road\, Crozet\, Virginia\, 22932\, United States
CATEGORIES:Alum Event
ATTACH;FMTTYPE=image/webp:https://cambridgecommonwriters.org/wp-content/uploads/2023/10/Jody-Hobbs-Hesler2.webp
ORGANIZER;CN="Bluebird & Co":MAILTO:hello@bluebirdcrozet.com
END:VEVENT
END:VCALENDAR