BEGIN:VCALENDAR
VERSION:2.0
PRODID:-//Cambridge Common Writers - ECPv6.15.20//NONSGML v1.0//EN
CALSCALE:GREGORIAN
METHOD:PUBLISH
X-WR-CALNAME:Cambridge Common Writers
X-ORIGINAL-URL:https://cambridgecommonwriters.org
X-WR-CALDESC:Events for Cambridge Common Writers
REFRESH-INTERVAL;VALUE=DURATION:PT1H
X-Robots-Tag:noindex
X-PUBLISHED-TTL:PT1H
BEGIN:VTIMEZONE
TZID:America/Chicago
BEGIN:DAYLIGHT
TZOFFSETFROM:-0600
TZOFFSETTO:-0500
TZNAME:CDT
DTSTART:20230312T080000
END:DAYLIGHT
BEGIN:STANDARD
TZOFFSETFROM:-0500
TZOFFSETTO:-0600
TZNAME:CST
DTSTART:20231105T070000
END:STANDARD
BEGIN:DAYLIGHT
TZOFFSETFROM:-0600
TZOFFSETTO:-0500
TZNAME:CDT
DTSTART:20240310T080000
END:DAYLIGHT
BEGIN:STANDARD
TZOFFSETFROM:-0500
TZOFFSETTO:-0600
TZNAME:CST
DTSTART:20241103T070000
END:STANDARD
BEGIN:DAYLIGHT
TZOFFSETFROM:-0600
TZOFFSETTO:-0500
TZNAME:CDT
DTSTART:20250309T080000
END:DAYLIGHT
BEGIN:STANDARD
TZOFFSETFROM:-0500
TZOFFSETTO:-0600
TZNAME:CST
DTSTART:20251102T070000
END:STANDARD
END:VTIMEZONE
BEGIN:VEVENT
DTSTART;TZID=America/Chicago:20240306T190000
DTEND;TZID=America/Chicago:20240306T200000
DTSTAMP:20260422T030428
CREATED:20240303T202638Z
LAST-MODIFIED:20240303T202639Z
UID:9966-1709751600-1709755200@cambridgecommonwriters.org
SUMMARY:THIS AMERICAN EX-WIFE by Lyz Lenz in conversation with Laura Danger
DESCRIPTION:Join Women & Children First in welcoming Lyz Lenz (Fiction\, June 2011) to celebrate the release of This American Ex-Wife: How I Ended My Marriage and Started My Life. For this event\, Lyz will be joined in conversation by Laura Danger. \n\n\n\n\n\n\n\nA deeply validating manifesto on the gender politics of marriage (bad) and divorce (actually pretty good!) in America today\, and an argument that the former needs a reboot—from journalist and proud divorcée Lyz Lenz \n\n\n\nPlease note: Pre-registration for this event is required. By pre-registering\, you are verifying that you are fully vaccinated and will wear a mask throughout the entirety of the event. \n\n\n\nLyz Lenz is a journalist and the author of God Land and Belabored. She has written for Insider\, The New York Times\, Marie Claire\, and The Washington Post. Lenz also writes the newsletter Men Yell at Me\, about the intersection of politics and personhood in red-state America. She lives in Iowa with her two children. \n\n\n\nLaura Danger is a Licensed Educator\, Certified Coach and Creator who has taught and facilitated in Chicago for over 12 years. She is also a gardener\, hiker\, mother of two\, partner\, and passionate advocate for balanced partnerships and a society centered around connection and community.
URL:https://cambridgecommonwriters.org/calendar/this-american-ex-wife-by-lyz-lenz-in-conversation-with-laura-danger/
LOCATION:Women & Children First\, 5233 N. Clark St.\, Chicago\, Illinois\, 60640\, United States
CATEGORIES:Alum Event
ATTACH;FMTTYPE=image/png:https://cambridgecommonwriters.org/wp-content/uploads/2023/08/This-American-Ex-Wife.png
ORGANIZER;CN="Women & Children First":MAILTO:wcfbooks@gmail.com
END:VEVENT
END:VCALENDAR