BEGIN:VCALENDAR
VERSION:2.0
PRODID:-//Cambridge Common Writers - ECPv6.15.20//NONSGML v1.0//EN
CALSCALE:GREGORIAN
METHOD:PUBLISH
X-ORIGINAL-URL:https://cambridgecommonwriters.org
X-WR-CALDESC:Events for Cambridge Common Writers
REFRESH-INTERVAL;VALUE=DURATION:PT1H
X-Robots-Tag:noindex
X-PUBLISHED-TTL:PT1H
BEGIN:VTIMEZONE
TZID:America/New_York
BEGIN:DAYLIGHT
TZOFFSETFROM:-0500
TZOFFSETTO:-0400
TZNAME:EDT
DTSTART:20230312T070000
END:DAYLIGHT
BEGIN:STANDARD
TZOFFSETFROM:-0400
TZOFFSETTO:-0500
TZNAME:EST
DTSTART:20231105T060000
END:STANDARD
BEGIN:DAYLIGHT
TZOFFSETFROM:-0500
TZOFFSETTO:-0400
TZNAME:EDT
DTSTART:20240310T070000
END:DAYLIGHT
BEGIN:STANDARD
TZOFFSETFROM:-0400
TZOFFSETTO:-0500
TZNAME:EST
DTSTART:20241103T060000
END:STANDARD
BEGIN:DAYLIGHT
TZOFFSETFROM:-0500
TZOFFSETTO:-0400
TZNAME:EDT
DTSTART:20250309T070000
END:DAYLIGHT
BEGIN:STANDARD
TZOFFSETFROM:-0400
TZOFFSETTO:-0500
TZNAME:EST
DTSTART:20251102T060000
END:STANDARD
END:VTIMEZONE
BEGIN:VEVENT
DTSTART;TZID=America/New_York:20240106T140000
DTEND;TZID=America/New_York:20240106T150000
DTSTAMP:20260422T064306
CREATED:20231227T002307Z
LAST-MODIFIED:20231227T002308Z
UID:9563-1704549600-1704553200@cambridgecommonwriters.org
SUMMARY:Cambridge Public Library Presents Story Time with Sara Levine
DESCRIPTION:Join patrons of the Cambridge Public Library on Saturday\, January 6th to hear Sara Levine (Nonfiction/WFYP\, January 2006) read Sensitive. \n\n\n\n\n\n\n\nThis tender picture book follows a girl who is told she is too intense\, too sensitive\, too much. She’s told to grow a thicker skin\, but the words of others slip right through. They somersault around inside and press against her heart. \n\n\n\nWhat can she do to stop the hurt? \n\n\n\nShe needs to take time alone to think and read\, rest and create. \n\n\n\nThoughtful text\, detailed collage illustrations\, and an unexpected word puzzle combine in Sara Levine and Mehrdokht Amini’s moving portrayal of a girl who discovers that what others call a weakness can also be a gift.
URL:https://cambridgecommonwriters.org/calendar/cambridge-public-library-presents-story-time-with-sara-levine/
LOCATION:Cambridge Public Library (O’Neill Branch)\, 70 Rindge Ave\, Cambridge\, Massachusetts\, 02140\, United States
CATEGORIES:Alum Event
ATTACH;FMTTYPE=image/jpeg:https://cambridgecommonwriters.org/wp-content/uploads/2023/09/Sensitive.jpeg
END:VEVENT
END:VCALENDAR