BEGIN:VCALENDAR
VERSION:2.0
PRODID:-//Cambridge Common Writers - ECPv6.15.20//NONSGML v1.0//EN
CALSCALE:GREGORIAN
METHOD:PUBLISH
X-ORIGINAL-URL:https://cambridgecommonwriters.org
X-WR-CALDESC:Events for Cambridge Common Writers
REFRESH-INTERVAL;VALUE=DURATION:PT1H
X-Robots-Tag:noindex
X-PUBLISHED-TTL:PT1H
BEGIN:VTIMEZONE
TZID:America/New_York
BEGIN:DAYLIGHT
TZOFFSETFROM:-0500
TZOFFSETTO:-0400
TZNAME:EDT
DTSTART:20220313T070000
END:DAYLIGHT
BEGIN:STANDARD
TZOFFSETFROM:-0400
TZOFFSETTO:-0500
TZNAME:EST
DTSTART:20221106T060000
END:STANDARD
BEGIN:DAYLIGHT
TZOFFSETFROM:-0500
TZOFFSETTO:-0400
TZNAME:EDT
DTSTART:20230312T070000
END:DAYLIGHT
BEGIN:STANDARD
TZOFFSETFROM:-0400
TZOFFSETTO:-0500
TZNAME:EST
DTSTART:20231105T060000
END:STANDARD
BEGIN:DAYLIGHT
TZOFFSETFROM:-0500
TZOFFSETTO:-0400
TZNAME:EDT
DTSTART:20240310T070000
END:DAYLIGHT
BEGIN:STANDARD
TZOFFSETFROM:-0400
TZOFFSETTO:-0500
TZNAME:EST
DTSTART:20241103T060000
END:STANDARD
END:VTIMEZONE
BEGIN:VEVENT
DTSTART;TZID=America/New_York:20231217T140000
DTEND;TZID=America/New_York:20231217T150000
DTSTAMP:20260422T082731
CREATED:20231001T202010Z
LAST-MODIFIED:20231001T202012Z
UID:9120-1702821600-1702825200@cambridgecommonwriters.org
SUMMARY:"Shangri-La" by Nancy Temple - Staged Reading with Theatre One 
DESCRIPTION:There will be staged reading of Nancy’s full-length play\, “Shangri-La\,” by Theatre One\, on December 17 at 2 pm.The play has four characters: a woman with a secret\, her drug-addicted son\, her lover\, who claims to be Lakota Indian\, and an old friend who comes to visit. Lots of drama! \n\n\n\nThere will be a talkback with Nancy after the reading. Come\, ask questions\, give feedback. 
URL:https://cambridgecommonwriters.org/calendar/shangri-la-by-nancy-temple-staged-reading-with-theatre-one/
LOCATION:Mitchell Memorial Club\, 29 Elm St\, Middleborough\, Massachusetts\, 02346\, United States
CATEGORIES:Alum Event
ATTACH;FMTTYPE=image/jpeg:https://cambridgecommonwriters.org/wp-content/uploads/2023/10/Nancy-Temple.jpeg
ORGANIZER;CN="Theatre One":MAILTO:theatreoneproductions@yahoo.com
END:VEVENT
END:VCALENDAR