BEGIN:VCALENDAR
VERSION:2.0
PRODID:-//Cambridge Common Writers - ECPv6.15.20//NONSGML v1.0//EN
CALSCALE:GREGORIAN
METHOD:PUBLISH
X-WR-CALNAME:Cambridge Common Writers
X-ORIGINAL-URL:https://cambridgecommonwriters.org
X-WR-CALDESC:Events for Cambridge Common Writers
REFRESH-INTERVAL;VALUE=DURATION:PT1H
X-Robots-Tag:noindex
X-PUBLISHED-TTL:PT1H
BEGIN:VTIMEZONE
TZID:America/New_York
BEGIN:DAYLIGHT
TZOFFSETFROM:-0500
TZOFFSETTO:-0400
TZNAME:EDT
DTSTART:20220313T070000
END:DAYLIGHT
BEGIN:STANDARD
TZOFFSETFROM:-0400
TZOFFSETTO:-0500
TZNAME:EST
DTSTART:20221106T060000
END:STANDARD
BEGIN:DAYLIGHT
TZOFFSETFROM:-0500
TZOFFSETTO:-0400
TZNAME:EDT
DTSTART:20230312T070000
END:DAYLIGHT
BEGIN:STANDARD
TZOFFSETFROM:-0400
TZOFFSETTO:-0500
TZNAME:EST
DTSTART:20231105T060000
END:STANDARD
BEGIN:DAYLIGHT
TZOFFSETFROM:-0500
TZOFFSETTO:-0400
TZNAME:EDT
DTSTART:20240310T070000
END:DAYLIGHT
BEGIN:STANDARD
TZOFFSETFROM:-0400
TZOFFSETTO:-0500
TZNAME:EST
DTSTART:20241103T060000
END:STANDARD
END:VTIMEZONE
BEGIN:VEVENT
DTSTART;TZID=America/New_York:20231213T180000
DTEND;TZID=America/New_York:20231213T200000
DTSTAMP:20260422T082721
CREATED:20231211T221448Z
LAST-MODIFIED:20231211T221449Z
UID:9463-1702490400-1702497600@cambridgecommonwriters.org
SUMMARY:An Evening with Kate Fussner\, author of The Song of Us
DESCRIPTION:Barefoot Books is committed to opening children’s hearts\, minds\, and worlds so that they can embody kindness in all its forms. 826 Boston thanks Barefoot Books for hosting this event at their Bradford Mill home in West Concord. Featuring author Kate Fussner (WFYP\, June 2021)\, whose debut middle-grade novel\, The Song of Us\, retells the myth of Orpheus and Eurydice in modern-day middle school.
URL:https://cambridgecommonwriters.org/calendar/an-evening-with-kate-fussner-author-of-the-song-of-us/
LOCATION:Barefoot Books\, 23 Bradford St\, Second Floor\, Concord\, Massachusetts\, 01742\, United States
CATEGORIES:Alum Event
ATTACH;FMTTYPE=image/png:https://cambridgecommonwriters.org/wp-content/uploads/2023/06/The-Song-of-Us.png
ORGANIZER;CN="826 Boston":MAILTO:info@826boston.org
END:VEVENT
BEGIN:VEVENT
DTSTART;TZID=America/New_York:20231213T203000
DTEND;TZID=America/New_York:20231213T213000
DTSTAMP:20260422T082721
CREATED:20231211T014656Z
LAST-MODIFIED:20231211T014657Z
UID:9441-1702499400-1702503000@cambridgecommonwriters.org
SUMMARY:What The Universe Is: Adrian Matejka and Kevin Prufer
DESCRIPTION:Come close out the 2023 season of What The Universe Is with two of America’s finest poets: \n\n\n\nAdrian Matejka was born in Germany as part of a military family. He grew up in Indianapolis\, Indiana and is a graduate of Indiana University Bloomington and the MFA program at Southern Illinois University Carbondale. He is the author of The Devil’s Garden (Alice James Books\, 2003) which won the New York / New England Award and Mixology (Penguin\, 2009)\, a winner of the 2008 National Poetry Series. His third collection\, The Big Smoke (Penguin\, 2013)\, was awarded the 2014 Anisfield-Wolf Book Award. The Big Smoke was also a finalist for the Hurston/Wright Legacy Award\, the National Book Award\, and the Pulitzer Prize in poetry. His next collection\, Map to the Stars\, was published by Penguin in 2017.  \n\n\n\nKevin Prufer’s (Poetry\, MFA Writing Faculty) newest poetry collection\, The Fears\, is forthcoming from Copper Canyon Press in 2023. His new novel\, Sleepaway\, will appear in 2024 from Acre Books. He is also the author of several other books of poetry\, including The Art of Fiction (2021)\, How He Loved Them (2018)\, Churches (2014)\, In a Beautiful Country (2011)\, and National Anthem (2008)\, all from Four Way Books. Prufer is a professor in the Creative Writing Program at the University of Houston and the low-residency MFA at Lesley University.
URL:https://cambridgecommonwriters.org/calendar/what-the-universe-is-adrian-matejka-and-kevin-prufer/
LOCATION:Online Zoom Event
CATEGORIES:Alum Event,Mentor Event
ATTACH;FMTTYPE=image/png:https://cambridgecommonwriters.org/wp-content/uploads/2023/12/Screen-Shot-2023-12-10-at-8.46.44-PM.png
END:VEVENT
END:VCALENDAR