BEGIN:VCALENDAR
VERSION:2.0
PRODID:-//Cambridge Common Writers - ECPv6.15.20//NONSGML v1.0//EN
CALSCALE:GREGORIAN
METHOD:PUBLISH
X-WR-CALNAME:Cambridge Common Writers
X-ORIGINAL-URL:https://cambridgecommonwriters.org
X-WR-CALDESC:Events for Cambridge Common Writers
REFRESH-INTERVAL;VALUE=DURATION:PT1H
X-Robots-Tag:noindex
X-PUBLISHED-TTL:PT1H
BEGIN:VTIMEZONE
TZID:America/New_York
BEGIN:DAYLIGHT
TZOFFSETFROM:-0500
TZOFFSETTO:-0400
TZNAME:EDT
DTSTART:20220313T070000
END:DAYLIGHT
BEGIN:STANDARD
TZOFFSETFROM:-0400
TZOFFSETTO:-0500
TZNAME:EST
DTSTART:20221106T060000
END:STANDARD
BEGIN:DAYLIGHT
TZOFFSETFROM:-0500
TZOFFSETTO:-0400
TZNAME:EDT
DTSTART:20230312T070000
END:DAYLIGHT
BEGIN:STANDARD
TZOFFSETFROM:-0400
TZOFFSETTO:-0500
TZNAME:EST
DTSTART:20231105T060000
END:STANDARD
BEGIN:DAYLIGHT
TZOFFSETFROM:-0500
TZOFFSETTO:-0400
TZNAME:EDT
DTSTART:20240310T070000
END:DAYLIGHT
BEGIN:STANDARD
TZOFFSETFROM:-0400
TZOFFSETTO:-0500
TZNAME:EST
DTSTART:20241103T060000
END:STANDARD
END:VTIMEZONE
BEGIN:VEVENT
DTSTART;TZID=America/New_York:20231115T183000
DTEND;TZID=America/New_York:20231115T193000
DTSTAMP:20260422T101753
CREATED:20231029T215445Z
LAST-MODIFIED:20231029T215446Z
UID:9202-1700073000-1700076600@cambridgecommonwriters.org
SUMMARY:All Water Has Perfect Memory: Book Talk with Nada-Samih-Rotondo
DESCRIPTION:Mystic Seaport Museum is excited to host local author Nada Samih-Rotondo (Fiction\, June 2012) as she reads excerpts from her new memoir\, All Water Has Perfect Memory\, in the Treworgy Planetarium. Guests will enjoy an immersive storytelling experience that showcases the exact star patterns overhead as they appear in her book\, followed by a Q&A session and an opportunity to purchase a signed copy of All Water Has Perfect Memory. This program is best for ages 13+. Registration is required to attend.
URL:https://cambridgecommonwriters.org/calendar/all-water-has-perfect-memory-book-talk-with-nada-samih-rotondo/
LOCATION:Mystic Seaport Museum\, 75 Greenmanville Ave\, Mystic\, Connecticut\, 06355\, United States
CATEGORIES:Alum Event
ATTACH;FMTTYPE=image/jpeg:https://cambridgecommonwriters.org/wp-content/uploads/2020/12/fall-20-scaled.jpg
ORGANIZER;CN="Mystic Seaport Museum":MAILTO:info@mysticseaport.org
END:VEVENT
END:VCALENDAR