BEGIN:VCALENDAR
VERSION:2.0
PRODID:-//Cambridge Common Writers - ECPv6.15.20//NONSGML v1.0//EN
CALSCALE:GREGORIAN
METHOD:PUBLISH
X-ORIGINAL-URL:https://cambridgecommonwriters.org
X-WR-CALDESC:Events for Cambridge Common Writers
REFRESH-INTERVAL;VALUE=DURATION:PT1H
X-Robots-Tag:noindex
X-PUBLISHED-TTL:PT1H
BEGIN:VTIMEZONE
TZID:America/New_York
BEGIN:DAYLIGHT
TZOFFSETFROM:-0500
TZOFFSETTO:-0400
TZNAME:EDT
DTSTART:20220313T070000
END:DAYLIGHT
BEGIN:STANDARD
TZOFFSETFROM:-0400
TZOFFSETTO:-0500
TZNAME:EST
DTSTART:20221106T060000
END:STANDARD
BEGIN:DAYLIGHT
TZOFFSETFROM:-0500
TZOFFSETTO:-0400
TZNAME:EDT
DTSTART:20230312T070000
END:DAYLIGHT
BEGIN:STANDARD
TZOFFSETFROM:-0400
TZOFFSETTO:-0500
TZNAME:EST
DTSTART:20231105T060000
END:STANDARD
BEGIN:DAYLIGHT
TZOFFSETFROM:-0500
TZOFFSETTO:-0400
TZNAME:EDT
DTSTART:20240310T070000
END:DAYLIGHT
BEGIN:STANDARD
TZOFFSETFROM:-0400
TZOFFSETTO:-0500
TZNAME:EST
DTSTART:20241103T060000
END:STANDARD
END:VTIMEZONE
BEGIN:VEVENT
DTSTART;TZID=America/New_York:20231114T190000
DTEND;TZID=America/New_York:20231114T203000
DTSTAMP:20260422T101858
CREATED:20231025T230915Z
LAST-MODIFIED:20231025T230915Z
UID:9193-1699988400-1699993800@cambridgecommonwriters.org
SUMMARY:Lifting Up Marginalized Voices: Reading and Discussion
DESCRIPTION:Join Sunu P. Chandy\, Jody Hobbs Hesler (Fiction\, June 2017)\, and Martha Anne Toll for Lifting Up Marginalized Voices: a Reading and Discussion at The Potter’s House! \n\n\n\nSunu P. Chandy (she/her) is a social justice activist including through her work as a poet and a civil rights attorney. She’s the daughter of immigrants from Kerala\, India\, a queer woman of color\, and lives in Washington\, D.C. with her family. Her award-winning collection of poems\, My Dear Comrades\, was published by Regal House in 2023. \n\n\n\nJody Hobbs Hesler has written ever since she could hold a pencil and now lives and writes in the foothills of the Blue Ridge Mountains. Her debut story collection\, What Makes You Think You’re Supposed to Feel Better was published by Cornerstone Press in October 2023. Jody teaches at WriterHouse in Charlottesville\, Virginia and reads for The Los Angeles Review.  \n\n\n\nMartha Anne Toll’s debut novel\, Three Muses\, was shortlisted for the Gotham Book Prize and won the Petrichor Prize for Finely Crafted Fiction. Toll brings a long career in social justice to her work covering authors of color and women writers as a critic and author interviewer at NPR Books\, the Washington Post\, Pointe Magazine\, The Millions\, and elsewhere. Toll is a member of the National Book Critics Circle and serves on the Board of Directors of the PEN/Faulkner Foundation.
URL:https://cambridgecommonwriters.org/calendar/lifting-up-marginalized-voices-reading-and-discussion/
LOCATION:Potter’s House\, 1658 COLUMBIA ROAD NORTHWEST\, Washington\, District of Columbia\, 20009\, United States
CATEGORIES:Alum Event
ATTACH;FMTTYPE=image/png:https://cambridgecommonwriters.org/wp-content/uploads/2020/02/Jody-Hobbs-Hesler.png
ORGANIZER;CN="Potter's House":MAILTO:events@pottershousedc.org
END:VEVENT
END:VCALENDAR