BEGIN:VCALENDAR
VERSION:2.0
PRODID:-//Cambridge Common Writers - ECPv6.15.20//NONSGML v1.0//EN
CALSCALE:GREGORIAN
METHOD:PUBLISH
X-WR-CALNAME:Cambridge Common Writers
X-ORIGINAL-URL:https://cambridgecommonwriters.org
X-WR-CALDESC:Events for Cambridge Common Writers
REFRESH-INTERVAL;VALUE=DURATION:PT1H
X-Robots-Tag:noindex
X-PUBLISHED-TTL:PT1H
BEGIN:VTIMEZONE
TZID:America/New_York
BEGIN:DAYLIGHT
TZOFFSETFROM:-0500
TZOFFSETTO:-0400
TZNAME:EDT
DTSTART:20220313T070000
END:DAYLIGHT
BEGIN:STANDARD
TZOFFSETFROM:-0400
TZOFFSETTO:-0500
TZNAME:EST
DTSTART:20221106T060000
END:STANDARD
BEGIN:DAYLIGHT
TZOFFSETFROM:-0500
TZOFFSETTO:-0400
TZNAME:EDT
DTSTART:20230312T070000
END:DAYLIGHT
BEGIN:STANDARD
TZOFFSETFROM:-0400
TZOFFSETTO:-0500
TZNAME:EST
DTSTART:20231105T060000
END:STANDARD
BEGIN:DAYLIGHT
TZOFFSETFROM:-0500
TZOFFSETTO:-0400
TZNAME:EDT
DTSTART:20240310T070000
END:DAYLIGHT
BEGIN:STANDARD
TZOFFSETFROM:-0400
TZOFFSETTO:-0500
TZNAME:EST
DTSTART:20241103T060000
END:STANDARD
END:VTIMEZONE
BEGIN:VEVENT
DTSTART;TZID=America/New_York:20231018T190000
DTEND;TZID=America/New_York:20231018T200000
DTSTAMP:20260422T123234
CREATED:20231004T002252Z
LAST-MODIFIED:20231004T002442Z
UID:9133-1697655600-1697659200@cambridgecommonwriters.org
SUMMARY:Grolier Poetry Book Shop Presents Naomi Mulvihill and Hilary Sallick
DESCRIPTION:Join the Grolier Poetry Book Shop for a hybrid reading with Naomi Mulvihill and Hilary Sallick with an introduction by Lloyd Schwartz. \n\n\n\nThis event will take place synchronously in-store at 6 Plympton Street and on Zoom. Registration Required. \n\n\n\nNaomi Mulvihill (Poetry\, 2011) was a Margaret Murphy endowed fellow at the Fine Arts Work Center in Provincetown\, MA. Her chapbook\, We All Might Be (Factory Hollow Press)\, won the 2022 Tomaž Šalamun Prize Editor’s Choice Selection. Her first full length volume of poems\, The Knife Thrower’s Girl\, was awarded the 2022 Washington Prize (The Word Works). Her poems have appeared in the Kenyon Review Online\, Michigan Quarterly Review\, New Orleans Review\, Salamander\, Cimarron\, West Branch and others\, and featured in Verse Daily. Naomi’s essays on language and learning have appeared in The Writer’s Chronicle and Harvard Educational Review. She is a veteran bilingual teacher in the Boston Public Schools. \n\n\n\nHilary Sallick is the author of two full-length poetry collections\, Love Is A Shore (Lily Poetry Review Books) and Asking the Form (Cervena Barva Press). Her poems appear in Notre Dame Review\, Leon Literary Review\, Vita Poetica\, Ibbetson Street\, and other journals. A teacher with a longtime focus on adult literacy\, she also serves on the Board of the New England Poetry Club. She lives and works in Somerville\, MA.
URL:https://cambridgecommonwriters.org/calendar/grolier-poetry-book-shop-presents-naomi-mulvihill-and-hilary-sallick/
LOCATION:Grolier Poetry Book Shop\, 6 Plympton Street\, Cambridge\, Massachusetts\, 02138\, United States
CATEGORIES:Alum Event
ATTACH;FMTTYPE=image/png:https://cambridgecommonwriters.org/wp-content/uploads/2023/10/Screen-Shot-2023-10-03-at-8.22.35-PM.png
END:VEVENT
END:VCALENDAR