BEGIN:VCALENDAR
VERSION:2.0
PRODID:-//Cambridge Common Writers - ECPv6.15.20//NONSGML v1.0//EN
CALSCALE:GREGORIAN
METHOD:PUBLISH
X-ORIGINAL-URL:https://cambridgecommonwriters.org
X-WR-CALDESC:Events for Cambridge Common Writers
REFRESH-INTERVAL;VALUE=DURATION:PT1H
X-Robots-Tag:noindex
X-PUBLISHED-TTL:PT1H
BEGIN:VTIMEZONE
TZID:America/New_York
BEGIN:DAYLIGHT
TZOFFSETFROM:-0500
TZOFFSETTO:-0400
TZNAME:EDT
DTSTART:20220313T070000
END:DAYLIGHT
BEGIN:STANDARD
TZOFFSETFROM:-0400
TZOFFSETTO:-0500
TZNAME:EST
DTSTART:20221106T060000
END:STANDARD
BEGIN:DAYLIGHT
TZOFFSETFROM:-0500
TZOFFSETTO:-0400
TZNAME:EDT
DTSTART:20230312T070000
END:DAYLIGHT
BEGIN:STANDARD
TZOFFSETFROM:-0400
TZOFFSETTO:-0500
TZNAME:EST
DTSTART:20231105T060000
END:STANDARD
BEGIN:DAYLIGHT
TZOFFSETFROM:-0500
TZOFFSETTO:-0400
TZNAME:EDT
DTSTART:20240310T070000
END:DAYLIGHT
BEGIN:STANDARD
TZOFFSETFROM:-0400
TZOFFSETTO:-0500
TZNAME:EST
DTSTART:20241103T060000
END:STANDARD
END:VTIMEZONE
BEGIN:VEVENT
DTSTART;TZID=America/New_York:20230930T153000
DTEND;TZID=America/New_York:20230930T163000
DTSTAMP:20260422T123500
CREATED:20230924T000959Z
LAST-MODIFIED:20230924T001000Z
UID:9003-1696087800-1696091400@cambridgecommonwriters.org
SUMMARY:Displaced: A Poetry Reading and Conversation with Faraday Publishing and UMass Museum of Contemporary Art
DESCRIPTION:In collaboration with the exhibition ‘Displaced: Raida Adon’s Strangeness‘\, this reading and conversation considers the struggle of navigating between multiple\, often contentious\, identities. \n\n\n\nEnzo Silon Surin (Poetry\, 2012) will be in conversation with Samuel Miranda\, moderated by Michael Mercurio (Poetry\, January 2017).
URL:https://cambridgecommonwriters.org/calendar/displaced-a-poetry-reading-and-conversation-with-faraday-publishing-and-umass-museum-of-contemporary-art/
LOCATION:Emily Dickinson Museum\, 280 Main Street\, Amherst\, Massachusetts\, 01002\, United States
CATEGORIES:Alum Event
ATTACH;FMTTYPE=image/png:https://cambridgecommonwriters.org/wp-content/uploads/2023/09/Screen-Shot-2023-09-23-at-8.09.46-PM.png
ORGANIZER;CN="The Emily Dickinson Museum":MAILTO:info@EmilyDickinsonMuseum.org
END:VEVENT
END:VCALENDAR