BEGIN:VCALENDAR
VERSION:2.0
PRODID:-//Cambridge Common Writers - ECPv6.15.20//NONSGML v1.0//EN
CALSCALE:GREGORIAN
METHOD:PUBLISH
X-ORIGINAL-URL:https://cambridgecommonwriters.org
X-WR-CALDESC:Events for Cambridge Common Writers
REFRESH-INTERVAL;VALUE=DURATION:PT1H
X-Robots-Tag:noindex
X-PUBLISHED-TTL:PT1H
BEGIN:VTIMEZONE
TZID:America/New_York
BEGIN:DAYLIGHT
TZOFFSETFROM:-0500
TZOFFSETTO:-0400
TZNAME:EDT
DTSTART:20220313T070000
END:DAYLIGHT
BEGIN:STANDARD
TZOFFSETFROM:-0400
TZOFFSETTO:-0500
TZNAME:EST
DTSTART:20221106T060000
END:STANDARD
BEGIN:DAYLIGHT
TZOFFSETFROM:-0500
TZOFFSETTO:-0400
TZNAME:EDT
DTSTART:20230312T070000
END:DAYLIGHT
BEGIN:STANDARD
TZOFFSETFROM:-0400
TZOFFSETTO:-0500
TZNAME:EST
DTSTART:20231105T060000
END:STANDARD
BEGIN:DAYLIGHT
TZOFFSETFROM:-0500
TZOFFSETTO:-0400
TZNAME:EDT
DTSTART:20240310T070000
END:DAYLIGHT
BEGIN:STANDARD
TZOFFSETFROM:-0400
TZOFFSETTO:-0500
TZNAME:EST
DTSTART:20241103T060000
END:STANDARD
END:VTIMEZONE
BEGIN:VEVENT
DTSTART;TZID=America/New_York:20230928T190000
DTEND;TZID=America/New_York:20230928T210000
DTSTAMP:20260422T123457
CREATED:20230903T224519Z
LAST-MODIFIED:20230903T224521Z
UID:8888-1695927600-1695934800@cambridgecommonwriters.org
SUMMARY:U35: Mass Poetry Reading Series featuring Shari Caplan
DESCRIPTION:U35 is a bi-monthly reading series for poets under 35. The series seeks to promote and bolster young Massachusetts poets while giving them a venue to share their work and connect with other poets. If you are a poet under the age of 35\, sign up to read via Mass Poetry’s website! This event is free and open to the public. \n\n\n\nFeatured poets: \n\n\n\n\nJordan Barnes\n\n\n\nShari Caplan (Poetry\, June 2014)\n\n\n\nNathan Erwin\n\n\n\nDariana Guerrero\n\n\n\n\nAccessibility Information: \n\n\n\nTrident Booksellers & Cafe and restrooms are wheelchair accessible. Readings take place in the upstairs cafe. Please reach out to daniel@masspoetry.org and they will do their best to accommodate any and all requests.
URL:https://cambridgecommonwriters.org/calendar/u35-mass-poetry-reading-series-featuring-shari-caplan/
LOCATION:Trident Booksellers & Cafe\, 338 Newbury Street\, Boston\, Massachusetts\, 02115\, United States
CATEGORIES:Alum Event
ATTACH;FMTTYPE=image/png:https://cambridgecommonwriters.org/wp-content/uploads/2023/09/Screen-Shot-2023-09-03-at-6.41.17-PM.png
ORGANIZER;CN="Mass Poetry":MAILTO:INFO@MASSPOETRY.ORG
END:VEVENT
END:VCALENDAR