BEGIN:VCALENDAR
VERSION:2.0
PRODID:-//Cambridge Common Writers - ECPv6.15.20//NONSGML v1.0//EN
CALSCALE:GREGORIAN
METHOD:PUBLISH
X-ORIGINAL-URL:https://cambridgecommonwriters.org
X-WR-CALDESC:Events for Cambridge Common Writers
REFRESH-INTERVAL;VALUE=DURATION:PT1H
X-Robots-Tag:noindex
X-PUBLISHED-TTL:PT1H
BEGIN:VTIMEZONE
TZID:America/New_York
BEGIN:DAYLIGHT
TZOFFSETFROM:-0500
TZOFFSETTO:-0400
TZNAME:EDT
DTSTART:20220313T070000
END:DAYLIGHT
BEGIN:STANDARD
TZOFFSETFROM:-0400
TZOFFSETTO:-0500
TZNAME:EST
DTSTART:20221106T060000
END:STANDARD
BEGIN:DAYLIGHT
TZOFFSETFROM:-0500
TZOFFSETTO:-0400
TZNAME:EDT
DTSTART:20230312T070000
END:DAYLIGHT
BEGIN:STANDARD
TZOFFSETFROM:-0400
TZOFFSETTO:-0500
TZNAME:EST
DTSTART:20231105T060000
END:STANDARD
BEGIN:DAYLIGHT
TZOFFSETFROM:-0500
TZOFFSETTO:-0400
TZNAME:EDT
DTSTART:20240310T070000
END:DAYLIGHT
BEGIN:STANDARD
TZOFFSETFROM:-0400
TZOFFSETTO:-0500
TZNAME:EST
DTSTART:20241103T060000
END:STANDARD
END:VTIMEZONE
BEGIN:VEVENT
DTSTART;TZID=America/New_York:20230913T190000
DTEND;TZID=America/New_York:20230913T200000
DTSTAMP:20260422T142145
CREATED:20230903T185001Z
LAST-MODIFIED:20230903T185002Z
UID:8863-1694631600-1694635200@cambridgecommonwriters.org
SUMMARY:An Evening of Poetry & Music with Michael Mercurio\, Eliot Cardinaux\, and Rebecca Faulkner
DESCRIPTION:Visit the Anchor House of Artists in Northampton\, MA for an evening of Poetry & Music with Michael Mercurio (Poetry\, January 2017)\, Eliot Cardinaux\, and Rebecca Faulkner. \n\n\n\nMichael W Mercurio lives and writes in the Pioneer Valley of Massachusetts\, where he serves on the steering committee for the Tell It Slant Poetry Festival (formerly Amherst Poetry Festival) and is the associate editor of the Naugatuck River Review. Michael is also on the Board of Directors for Faraday Publishing\, a nonprofit press with the mission of amplifying marginalized voices. His poetry has been published in Rust + Moth\, Crab Creek Review\, The Indianapolis Review\, and Palette Poetry\, and is forthcoming in Sugar House Review.
URL:https://cambridgecommonwriters.org/calendar/an-evening-of-poetry-music-with-michael-mercurio-eliot-cardinaux-and-rebecca-faulkner/
LOCATION:Anchor House of Artists\, 518 Pleasant Street\, Northampton\, Massachusetts\, 01002\, United States
CATEGORIES:Alum Event
ATTACH;FMTTYPE=image/png:https://cambridgecommonwriters.org/wp-content/uploads/2023/09/Screen-Shot-2023-09-03-at-2.49.09-PM.png
END:VEVENT
BEGIN:VEVENT
DTSTART;TZID=America/New_York:20230913T190000
DTEND;TZID=America/New_York:20230913T200000
DTSTAMP:20260422T142145
CREATED:20230903T201938Z
LAST-MODIFIED:20230903T201939Z
UID:8876-1694631600-1694635200@cambridgecommonwriters.org
SUMMARY:An Evening of Poetry with Shamar Hill\, Enzo Silon Surin\, and Martha Collins
DESCRIPTION:Join McNally Jackson Independent Booksellers for an evening of readings and thought\, curated by Shamar Hill. Drinks and socializing to follow in the bar. RSVP required. \n\n\n\nEnzo Silon Surin (Poetry\, 2012) is a Haitian-born\, award-winning poet\, educator\, librettist\, publisher and social advocate. He is the author of four collections of poetry\, including American Scapegoat (Black Lawrence Press\, May 2023)\, which interrogates the socio-political framework of a democracy at war with itself and its humanity\, and When My Body Was A Clinched Fist (2020)\, winner of the 21st Annual Massachusetts Book Awards for Poetry. He is co-editor of Where We Stand: Poems of Black Resilience (Cherry Castle Publishing\, 2022)\, and the recipient of a number of honors including a Brother Thomas Fellowship from the Boston Foundation and grants from the New England Poetry Club and Chateau d’Orquevaux in France. Surin’s work has been featured in numerous publications including by the Poetry Foundation and in Poem-a-Day by the Academy of American Poets and has been commissioned by the Boston Opera Collaborative. He is Founding Editor and Publisher at Central Square Press and Founder/Executive Director at the Faraday Publishing Company\, Inc.\, a nonprofit literary services and social advocacy organization. \n\n\n\nShamar Hill\, a Black and Jewish writer\, is the recipient of numerous awards and fellowships\, including from the New York Foundation for the Arts\, Cave Canem\, and the Fine Arts Work Center. He has been published in the American Poetry Review\, the Missouri Review\, Washington Square Review\, and Poetry Northwest\, among others. He is working on his memoir\, In Defiance of All True Things\, and a poetry collection\, Photographs of an Imagined Childhood. \n\n\n\nMartha Collins recently published her eleventh collection of poetry\, Casualty Reports (Pittsburgh\, 2022)\, and her fifth volume of co-translated Vietnamese poetry\, Dreaming the Mountain\, poems by Tue Sy (Milkweed\, 2023). Her tenth book of poems\, Because What Else Could I Do (Pittsburgh\, 2019)\, won the Poetry Society of America’s William Carlos Williams Award; earlier books\, which have won several awards\, include three focusing on race and racism (Admit One: An American Scrapbook\, White Papers\, Blue Front). Collins founded the U.Mass. Boston creative writing program and served for ten years as Pauline Delaney Professor of Creative Writing at Oberlin.
URL:https://cambridgecommonwriters.org/calendar/an-evening-of-poetry-with-shamar-hill-enzo-silon-surin-and-martha-collins/
LOCATION:McNally Jackson Seaport\, 4 Fulton St\, New York\, New York\, 10038\, United States
CATEGORIES:Alum Event
ATTACH;FMTTYPE=image/png:https://cambridgecommonwriters.org/wp-content/uploads/2023/09/Screen-Shot-2023-09-03-at-4.19.14-PM.png
ORGANIZER;CN="McNally Jackson Independent Booksellers":MAILTO:info@mcnallyjackson.com
END:VEVENT
END:VCALENDAR