BEGIN:VCALENDAR
VERSION:2.0
PRODID:-//Cambridge Common Writers - ECPv6.15.20//NONSGML v1.0//EN
CALSCALE:GREGORIAN
METHOD:PUBLISH
X-WR-CALNAME:Cambridge Common Writers
X-ORIGINAL-URL:https://cambridgecommonwriters.org
X-WR-CALDESC:Events for Cambridge Common Writers
REFRESH-INTERVAL;VALUE=DURATION:PT1H
X-Robots-Tag:noindex
X-PUBLISHED-TTL:PT1H
BEGIN:VTIMEZONE
TZID:America/New_York
BEGIN:DAYLIGHT
TZOFFSETFROM:-0500
TZOFFSETTO:-0400
TZNAME:EDT
DTSTART:20220313T070000
END:DAYLIGHT
BEGIN:STANDARD
TZOFFSETFROM:-0400
TZOFFSETTO:-0500
TZNAME:EST
DTSTART:20221106T060000
END:STANDARD
BEGIN:DAYLIGHT
TZOFFSETFROM:-0500
TZOFFSETTO:-0400
TZNAME:EDT
DTSTART:20230312T070000
END:DAYLIGHT
BEGIN:STANDARD
TZOFFSETFROM:-0400
TZOFFSETTO:-0500
TZNAME:EST
DTSTART:20231105T060000
END:STANDARD
BEGIN:DAYLIGHT
TZOFFSETFROM:-0500
TZOFFSETTO:-0400
TZNAME:EDT
DTSTART:20240310T070000
END:DAYLIGHT
BEGIN:STANDARD
TZOFFSETFROM:-0400
TZOFFSETTO:-0500
TZNAME:EST
DTSTART:20241103T060000
END:STANDARD
END:VTIMEZONE
BEGIN:VEVENT
DTSTART;TZID=America/New_York:20230908T180000
DTEND;TZID=America/New_York:20230908T190000
DTSTAMP:20260422T141929
CREATED:20230903T203042Z
LAST-MODIFIED:20230903T203043Z
UID:8881-1694196000-1694199600@cambridgecommonwriters.org
SUMMARY:Brooklyn Caribbean Literary Festival 5 - Laureates of the Caribbean with Enzo Surin
DESCRIPTION:Co-presented by The Center for Fiction and the Brooklyn Caribbean Literary Festival\, this event will feature Enzo Surin (Poetry\, 2012)\, Roberto Carlos Garcia\, Iyaba Mandingo\, Geoffrey Philp\, Saida Agostini Bostic\, and Andre Bagoo. Hosted by Tanya Batson-Savage and Attillab Springer.
URL:https://cambridgecommonwriters.org/calendar/brooklyn-caribbean-literary-festival-5-laureates-of-the-caribbean-with-enzo-surin/
LOCATION:The Center for Fiction\, 15 Lafayette Avenue\, Brooklyn\, New York\, 11217\, United States
CATEGORIES:Alum Event
ATTACH;FMTTYPE=image/png:https://cambridgecommonwriters.org/wp-content/uploads/2023/07/Enzo3.png
ORGANIZER;CN="Brooklyn Caribbean Literary Festival":MAILTO:contact@bklyncbeanlitfest.com
END:VEVENT
END:VCALENDAR