BEGIN:VCALENDAR
VERSION:2.0
PRODID:-//Cambridge Common Writers - ECPv6.15.20//NONSGML v1.0//EN
CALSCALE:GREGORIAN
METHOD:PUBLISH
X-WR-CALNAME:Cambridge Common Writers
X-ORIGINAL-URL:https://cambridgecommonwriters.org
X-WR-CALDESC:Events for Cambridge Common Writers
REFRESH-INTERVAL;VALUE=DURATION:PT1H
X-Robots-Tag:noindex
X-PUBLISHED-TTL:PT1H
BEGIN:VTIMEZONE
TZID:America/New_York
BEGIN:DAYLIGHT
TZOFFSETFROM:-0500
TZOFFSETTO:-0400
TZNAME:EDT
DTSTART:20220313T070000
END:DAYLIGHT
BEGIN:STANDARD
TZOFFSETFROM:-0400
TZOFFSETTO:-0500
TZNAME:EST
DTSTART:20221106T060000
END:STANDARD
BEGIN:DAYLIGHT
TZOFFSETFROM:-0500
TZOFFSETTO:-0400
TZNAME:EDT
DTSTART:20230312T070000
END:DAYLIGHT
BEGIN:STANDARD
TZOFFSETFROM:-0400
TZOFFSETTO:-0500
TZNAME:EST
DTSTART:20231105T060000
END:STANDARD
BEGIN:DAYLIGHT
TZOFFSETFROM:-0500
TZOFFSETTO:-0400
TZNAME:EDT
DTSTART:20240310T070000
END:DAYLIGHT
BEGIN:STANDARD
TZOFFSETFROM:-0400
TZOFFSETTO:-0500
TZNAME:EST
DTSTART:20241103T060000
END:STANDARD
END:VTIMEZONE
BEGIN:VEVENT
DTSTART;TZID=America/New_York:20230531T180000
DTEND;TZID=America/New_York:20230531T190000
DTSTAMP:20260422T195008
CREATED:20230512T173522Z
LAST-MODIFIED:20230512T173523Z
UID:8328-1685556000-1685559600@cambridgecommonwriters.org
SUMMARY:The Knife Thrower’s Girl: Poetry Reading with Naomi Mulvihill
DESCRIPTION:Join local author Naomi Mulvihill (Poetry\, 2011) as she reads from her award-winning debut book of poetry\, The Knife Thrower’s Girl. \n\n\n\nNaomi Mulvihill was a Margaret Murphy endowed fellow at the Fine Arts Work Center in Provincetown\, MA. Her chapbook\, We All Might Be (Factory Hollow Press) was awarded the 2022 Tomaž Šalamun Prize Editor’s Choice Selection. Her poems have appeared in the Kenyon Review Online\, Michigan Quarterly Review\, New Orleans Review\, Salamander\, Cimarron\, West Branch\, and others. Her poetry was also featured in Verse Daily. She is a veteran bilingual teacher in the Boston Public Schools. \n\n\n\nOther local poets will also share their work.
URL:https://cambridgecommonwriters.org/calendar/the-knife-throwers-girl-poetry-reading-with-naomi-mulvihill/
LOCATION:Egleston Square Branch Library\, 2044 Columbus Ave\, Roxbury\, Massachusetts\, 02119\, United States
CATEGORIES:Alum Event
ATTACH;FMTTYPE=image/jpeg:https://cambridgecommonwriters.org/wp-content/uploads/2023/01/Naomi-Mulvihill.jpg
ORGANIZER;CN="Boston Public Library":MAILTO:ask@bpl.org
END:VEVENT
END:VCALENDAR