BEGIN:VCALENDAR
VERSION:2.0
PRODID:-//Cambridge Common Writers - ECPv6.15.20//NONSGML v1.0//EN
CALSCALE:GREGORIAN
METHOD:PUBLISH
X-WR-CALNAME:Cambridge Common Writers
X-ORIGINAL-URL:https://cambridgecommonwriters.org
X-WR-CALDESC:Events for Cambridge Common Writers
REFRESH-INTERVAL;VALUE=DURATION:PT1H
X-Robots-Tag:noindex
X-PUBLISHED-TTL:PT1H
BEGIN:VTIMEZONE
TZID:America/New_York
BEGIN:DAYLIGHT
TZOFFSETFROM:-0500
TZOFFSETTO:-0400
TZNAME:EDT
DTSTART:20220313T070000
END:DAYLIGHT
BEGIN:STANDARD
TZOFFSETFROM:-0400
TZOFFSETTO:-0500
TZNAME:EST
DTSTART:20221106T060000
END:STANDARD
BEGIN:DAYLIGHT
TZOFFSETFROM:-0500
TZOFFSETTO:-0400
TZNAME:EDT
DTSTART:20230312T070000
END:DAYLIGHT
BEGIN:STANDARD
TZOFFSETFROM:-0400
TZOFFSETTO:-0500
TZNAME:EST
DTSTART:20231105T060000
END:STANDARD
BEGIN:DAYLIGHT
TZOFFSETFROM:-0500
TZOFFSETTO:-0400
TZNAME:EDT
DTSTART:20240310T070000
END:DAYLIGHT
BEGIN:STANDARD
TZOFFSETFROM:-0400
TZOFFSETTO:-0500
TZNAME:EST
DTSTART:20241103T060000
END:STANDARD
END:VTIMEZONE
BEGIN:VEVENT
DTSTART;TZID=America/New_York:20230517T193000
DTEND;TZID=America/New_York:20230517T203000
DTSTAMP:20260422T214330
CREATED:20230422T190559Z
LAST-MODIFIED:20230422T190601Z
UID:8183-1684351800-1684355400@cambridgecommonwriters.org
SUMMARY:You Can't Kill a Poet 9 Year Anniversary Reading!
DESCRIPTION:This poetry series hosted by Boston Gordon (Poetry\, January 2015) is back for its nine-year anniversary. Queer and trans poets from Philadelphia will share their work and fill the room with queer experience. Readers list TBD. \n\n\n\nThis is a 21+ event\, IDs are checked at the door. Please be vaccinated\, masks are welcome. \n\n\n\nThis reading is offered in partnership with the Free Library of Philadelphia with support from The Pennsylvania Department of Education.
URL:https://cambridgecommonwriters.org/calendar/you-cant-kill-a-poet-9-year-anniversary-reading/
LOCATION:Tattoed Mom\, 530 South St\, Philadelphia\, PA\, 19147\, United States
CATEGORIES:Alum Event
ATTACH;FMTTYPE=image/jpeg:https://cambridgecommonwriters.org/wp-content/uploads/2022/01/Boston-Gordon-2021-1-scaled-1.jpg
END:VEVENT
END:VCALENDAR