BEGIN:VCALENDAR
VERSION:2.0
PRODID:-//Cambridge Common Writers - ECPv6.15.20//NONSGML v1.0//EN
CALSCALE:GREGORIAN
METHOD:PUBLISH
X-ORIGINAL-URL:https://cambridgecommonwriters.org
X-WR-CALDESC:Events for Cambridge Common Writers
REFRESH-INTERVAL;VALUE=DURATION:PT1H
X-Robots-Tag:noindex
X-PUBLISHED-TTL:PT1H
BEGIN:VTIMEZONE
TZID:America/Chicago
BEGIN:DAYLIGHT
TZOFFSETFROM:-0600
TZOFFSETTO:-0500
TZNAME:CDT
DTSTART:20220313T080000
END:DAYLIGHT
BEGIN:STANDARD
TZOFFSETFROM:-0500
TZOFFSETTO:-0600
TZNAME:CST
DTSTART:20221106T070000
END:STANDARD
BEGIN:DAYLIGHT
TZOFFSETFROM:-0600
TZOFFSETTO:-0500
TZNAME:CDT
DTSTART:20230312T080000
END:DAYLIGHT
BEGIN:STANDARD
TZOFFSETFROM:-0500
TZOFFSETTO:-0600
TZNAME:CST
DTSTART:20231105T070000
END:STANDARD
BEGIN:DAYLIGHT
TZOFFSETFROM:-0600
TZOFFSETTO:-0500
TZNAME:CDT
DTSTART:20240310T080000
END:DAYLIGHT
BEGIN:STANDARD
TZOFFSETFROM:-0500
TZOFFSETTO:-0600
TZNAME:CST
DTSTART:20241103T070000
END:STANDARD
END:VTIMEZONE
BEGIN:VEVENT
DTSTART;TZID=America/Chicago:20230509T170000
DTEND;TZID=America/Chicago:20230509T180000
DTSTAMP:20260422T214555
CREATED:20230422T232358Z
LAST-MODIFIED:20230422T232358Z
UID:8209-1683651600-1683655200@cambridgecommonwriters.org
SUMMARY:YA Authorpalooza - Featuring Emily Inouye Huey
DESCRIPTION:YA Authorpalooza is celebrating a love of YA books! Join them for a book signing with: \n\n\n\n– Elizabeth Lowham– Tricia Levenseller– Spencer Hyde– David Glen Robb– Emily Inouye Huey (WFYP\, June 2011)
URL:https://cambridgecommonwriters.org/calendar/ya-authorpalooza-featuring-emily-inouye-huey/
LOCATION:Barnes & Noble\, Sugarhouse\, 1104 E 2100 S\, Salt Lake City\, Utah\, 84106\, United States
CATEGORIES:Alum Event
ATTACH;FMTTYPE=image/jpeg:https://cambridgecommonwriters.org/wp-content/uploads/2022/09/EmilyInouyeHueyHeadshot.jpg
END:VEVENT
END:VCALENDAR