BEGIN:VCALENDAR
VERSION:2.0
PRODID:-//Cambridge Common Writers - ECPv6.15.20//NONSGML v1.0//EN
CALSCALE:GREGORIAN
METHOD:PUBLISH
X-ORIGINAL-URL:https://cambridgecommonwriters.org
X-WR-CALDESC:Events for Cambridge Common Writers
REFRESH-INTERVAL;VALUE=DURATION:PT1H
X-Robots-Tag:noindex
X-PUBLISHED-TTL:PT1H
BEGIN:VTIMEZONE
TZID:America/Chicago
BEGIN:DAYLIGHT
TZOFFSETFROM:-0600
TZOFFSETTO:-0500
TZNAME:CDT
DTSTART:20250309T080000
END:DAYLIGHT
BEGIN:STANDARD
TZOFFSETFROM:-0500
TZOFFSETTO:-0600
TZNAME:CST
DTSTART:20251102T070000
END:STANDARD
BEGIN:DAYLIGHT
TZOFFSETFROM:-0600
TZOFFSETTO:-0500
TZNAME:CDT
DTSTART:20260308T080000
END:DAYLIGHT
BEGIN:STANDARD
TZOFFSETFROM:-0500
TZOFFSETTO:-0600
TZNAME:CST
DTSTART:20261101T070000
END:STANDARD
BEGIN:DAYLIGHT
TZOFFSETFROM:-0600
TZOFFSETTO:-0500
TZNAME:CDT
DTSTART:20270314T080000
END:DAYLIGHT
BEGIN:STANDARD
TZOFFSETFROM:-0500
TZOFFSETTO:-0600
TZNAME:CST
DTSTART:20271107T070000
END:STANDARD
END:VTIMEZONE
BEGIN:VTIMEZONE
TZID:America/Los_Angeles
BEGIN:DAYLIGHT
TZOFFSETFROM:-0800
TZOFFSETTO:-0700
TZNAME:PDT
DTSTART:20250309T100000
END:DAYLIGHT
BEGIN:STANDARD
TZOFFSETFROM:-0700
TZOFFSETTO:-0800
TZNAME:PST
DTSTART:20251102T090000
END:STANDARD
BEGIN:DAYLIGHT
TZOFFSETFROM:-0800
TZOFFSETTO:-0700
TZNAME:PDT
DTSTART:20260308T100000
END:DAYLIGHT
BEGIN:STANDARD
TZOFFSETFROM:-0700
TZOFFSETTO:-0800
TZNAME:PST
DTSTART:20261101T090000
END:STANDARD
BEGIN:DAYLIGHT
TZOFFSETFROM:-0800
TZOFFSETTO:-0700
TZNAME:PDT
DTSTART:20270314T100000
END:DAYLIGHT
BEGIN:STANDARD
TZOFFSETFROM:-0700
TZOFFSETTO:-0800
TZNAME:PST
DTSTART:20271107T090000
END:STANDARD
END:VTIMEZONE
BEGIN:VTIMEZONE
TZID:America/Chicago
BEGIN:DAYLIGHT
TZOFFSETFROM:-0600
TZOFFSETTO:-0500
TZNAME:CDT
DTSTART:20250309T080000
END:DAYLIGHT
BEGIN:STANDARD
TZOFFSETFROM:-0500
TZOFFSETTO:-0600
TZNAME:CST
DTSTART:20251102T070000
END:STANDARD
BEGIN:DAYLIGHT
TZOFFSETFROM:-0600
TZOFFSETTO:-0500
TZNAME:CDT
DTSTART:20260308T080000
END:DAYLIGHT
BEGIN:STANDARD
TZOFFSETFROM:-0500
TZOFFSETTO:-0600
TZNAME:CST
DTSTART:20261101T070000
END:STANDARD
BEGIN:DAYLIGHT
TZOFFSETFROM:-0600
TZOFFSETTO:-0500
TZNAME:CDT
DTSTART:20270314T080000
END:DAYLIGHT
BEGIN:STANDARD
TZOFFSETFROM:-0500
TZOFFSETTO:-0600
TZNAME:CST
DTSTART:20271107T070000
END:STANDARD
END:VTIMEZONE
BEGIN:VTIMEZONE
TZID:America/New_York
BEGIN:DAYLIGHT
TZOFFSETFROM:-0500
TZOFFSETTO:-0400
TZNAME:EDT
DTSTART:20250309T070000
END:DAYLIGHT
BEGIN:STANDARD
TZOFFSETFROM:-0400
TZOFFSETTO:-0500
TZNAME:EST
DTSTART:20251102T060000
END:STANDARD
BEGIN:DAYLIGHT
TZOFFSETFROM:-0500
TZOFFSETTO:-0400
TZNAME:EDT
DTSTART:20260308T070000
END:DAYLIGHT
BEGIN:STANDARD
TZOFFSETFROM:-0400
TZOFFSETTO:-0500
TZNAME:EST
DTSTART:20261101T060000
END:STANDARD
BEGIN:DAYLIGHT
TZOFFSETFROM:-0500
TZOFFSETTO:-0400
TZNAME:EDT
DTSTART:20270314T070000
END:DAYLIGHT
BEGIN:STANDARD
TZOFFSETFROM:-0400
TZOFFSETTO:-0500
TZNAME:EST
DTSTART:20271107T060000
END:STANDARD
END:VTIMEZONE
BEGIN:VTIMEZONE
TZID:America/New_York
BEGIN:DAYLIGHT
TZOFFSETFROM:-0500
TZOFFSETTO:-0400
TZNAME:EDT
DTSTART:20250309T070000
END:DAYLIGHT
BEGIN:STANDARD
TZOFFSETFROM:-0400
TZOFFSETTO:-0500
TZNAME:EST
DTSTART:20251102T060000
END:STANDARD
BEGIN:DAYLIGHT
TZOFFSETFROM:-0500
TZOFFSETTO:-0400
TZNAME:EDT
DTSTART:20260308T070000
END:DAYLIGHT
BEGIN:STANDARD
TZOFFSETFROM:-0400
TZOFFSETTO:-0500
TZNAME:EST
DTSTART:20261101T060000
END:STANDARD
BEGIN:DAYLIGHT
TZOFFSETFROM:-0500
TZOFFSETTO:-0400
TZNAME:EDT
DTSTART:20270314T070000
END:DAYLIGHT
BEGIN:STANDARD
TZOFFSETFROM:-0400
TZOFFSETTO:-0500
TZNAME:EST
DTSTART:20271107T060000
END:STANDARD
END:VTIMEZONE
BEGIN:VTIMEZONE
TZID:America/Denver
BEGIN:DAYLIGHT
TZOFFSETFROM:-0700
TZOFFSETTO:-0600
TZNAME:MDT
DTSTART:20250309T090000
END:DAYLIGHT
BEGIN:STANDARD
TZOFFSETFROM:-0600
TZOFFSETTO:-0700
TZNAME:MST
DTSTART:20251102T080000
END:STANDARD
BEGIN:DAYLIGHT
TZOFFSETFROM:-0700
TZOFFSETTO:-0600
TZNAME:MDT
DTSTART:20260308T090000
END:DAYLIGHT
BEGIN:STANDARD
TZOFFSETFROM:-0600
TZOFFSETTO:-0700
TZNAME:MST
DTSTART:20261101T080000
END:STANDARD
BEGIN:DAYLIGHT
TZOFFSETFROM:-0700
TZOFFSETTO:-0600
TZNAME:MDT
DTSTART:20270314T090000
END:DAYLIGHT
BEGIN:STANDARD
TZOFFSETFROM:-0600
TZOFFSETTO:-0700
TZNAME:MST
DTSTART:20271107T080000
END:STANDARD
END:VTIMEZONE
BEGIN:VEVENT
DTSTART;TZID=America/Chicago:20260307T090000
DTEND;TZID=America/Chicago:20260307T170000
DTSTAMP:20260420T031333
CREATED:20260206T181052Z
LAST-MODIFIED:20260206T181055Z
UID:12842-1772874000-1772902800@cambridgecommonwriters.org
SUMMARY:NTTBF Festival Day with Jasmine Warga
DESCRIPTION:Join Jasmine Warga (WFYP\, June 2013) at the North Texas Teen Book Festival\, a one-day book festival created to celebrate teen literature from both Middle Grade and YA authors. Jasmine will sign books\, meet readers\, and discuss books during the event.  \n\n\n\nFollow NTTBFEST on Facebook\, X (Twitter)\, and Instagram for updates and schedules.
URL:https://cambridgecommonwriters.org/calendar/nttbf-festival-day-with-jasmine-warga/
LOCATION:Irving Convention Center\, 500 W. Las Colinas Blvd\, Irving\, Texas\, 75039\, United States
CATEGORIES:Alum Event
ATTACH;FMTTYPE=image/webp:https://cambridgecommonwriters.org/wp-content/uploads/2025/03/Jasmine-Warga.webp
ORGANIZER;CN="NTTBF":MAILTO:info@nttbf.org
END:VEVENT
BEGIN:VEVENT
DTSTART;TZID=America/Los_Angeles:20260307T180000
DTEND;TZID=America/Los_Angeles:20260307T200000
DTSTAMP:20260420T031333
CREATED:20260222T174151Z
LAST-MODIFIED:20260222T174154Z
UID:12899-1772906400-1772913600@cambridgecommonwriters.org
SUMMARY:Book of the Year Party with Abbie Harlow
DESCRIPTION:Abbie Harlow (WFYP\, June 2019) will be at Hicklebee’s to celebrate The Butterfly’s Sting. Her debut novel\, and the Hicklebee’s YA book of the year\, The Butterfly’s Sting is a riveting story of hardship and family ties. Join Abbie for a presentation\, reading and book signing!
URL:https://cambridgecommonwriters.org/calendar/book-of-the-year-party-with-abbie-harlow/
LOCATION:Hicklebee’s Bookstore\, 1378 Lincoln Ave\, San Jose\, California\, 95125\, United States
CATEGORIES:Alum Event
ATTACH;FMTTYPE=image/jpeg:https://cambridgecommonwriters.org/wp-content/uploads/2026/02/Harlow-Sting.jpg
END:VEVENT
BEGIN:VEVENT
DTSTART;TZID=America/Chicago:20260308T120000
DTEND;TZID=America/Chicago:20260308T140000
DTSTAMP:20260420T031333
CREATED:20260206T181947Z
LAST-MODIFIED:20260206T181951Z
UID:12848-1772971200-1772978400@cambridgecommonwriters.org
SUMMARY:Author Event with Jasmine Warga
DESCRIPTION:Join award-winning author Jasmine Warga (WFYP\, June 2013) for an author event celebrating the release of The Unlikely Tale of Chase and Finnegan. Warga will be in conversation with author John Schu. \n\n\n\nCheck-in is approximately 30 minutes before the start time. After a presentation and Q&A with the author\, the author will sign copies. See the website for details regarding the event format.
URL:https://cambridgecommonwriters.org/calendar/author-event-with-jasmine-warga/
LOCATION:Anderson’s Bookshop Naperville\, 123 West Jefferson Avenue\, Naperville\, Illinois\, 60540\, United States
CATEGORIES:Alum Event
ATTACH;FMTTYPE=image/jpeg:https://cambridgecommonwriters.org/wp-content/uploads/2025/05/The-Unlikely-Tale-of-Chase-and-Finnegan.jpg
END:VEVENT
BEGIN:VEVENT
DTSTART;TZID=America/New_York:20260310T180000
DTEND;TZID=America/New_York:20260310T200000
DTSTAMP:20260420T031333
CREATED:20260206T182753Z
LAST-MODIFIED:20260206T182757Z
UID:12852-1773165600-1773172800@cambridgecommonwriters.org
SUMMARY:Jasmine Warga at Hilltop Branch Library
DESCRIPTION:Award-winning author Jasmine Warga (WFYP\, June 2013) joins Hilltop Branch Library on tour with her new book\, The Unlikely Tale of Chase and Finnegan\, a moving story about a friendship between a rescue dog and a cheetah. \n\n\n\nAfter the author talk\, Jasmine will sign books for attendees. The Columbus Zoo and Aquarium’s Animal Encounter will be at the library during the book signing. Meet a labrador with a very special job–a companion to the cheetahs at the Zoo! Just like Chase\, these cheetah companion labradors are an important part of the educational work the zoo does with their animals.
URL:https://cambridgecommonwriters.org/calendar/jasmine-warga-at-hilltop-branch-library/
LOCATION:Columbus Metropolitan Library – Hilltop Branch\, 511 S. Hague Ave\, Columbus\, Ohio\, 43204\, United States
CATEGORIES:Alum Event
ATTACH;FMTTYPE=image/webp:https://cambridgecommonwriters.org/wp-content/uploads/2025/03/Jasmine-Warga.webp
END:VEVENT
BEGIN:VEVENT
DTSTART;TZID=America/New_York:20260310T183000
DTEND;TZID=America/New_York:20260310T203000
DTSTAMP:20260420T031333
CREATED:20260228T181958Z
LAST-MODIFIED:20260228T182002Z
UID:12939-1773167400-1773174600@cambridgecommonwriters.org
SUMMARY:Book Club: Without You Here by Jody Hesler
DESCRIPTION:Relax\, recharge\, and connect with other thoughtful moms at Moms Lit Society: Books After Bedtime—a quarterly book club launched by CharlottesvilleFamily Magazine. The upcoming March reading will be Without You Here by Jody Hobbs Hesler (Fiction\, June 2017).  Thoughtful and emotionally layered\, this story beautifully explores how loss reshapes identity and relationships\, as well as how we all grapple with mental health\, forgiveness\, and the ways we carry love forward. Come and discuss the book over a glass of wine or beer. \n\n\n\nScreenshot
URL:https://cambridgecommonwriters.org/calendar/book-club-without-you-here-by-jody-hesler/
LOCATION:Starr Hill Brewery\, 946 Grady Ave\, Charlottesville\, Virginia\, 22903\, United States
CATEGORIES:Alum Event
ATTACH;FMTTYPE=image/jpeg:https://cambridgecommonwriters.org/wp-content/uploads/2024/09/Jody-Hesler.jpg
ORGANIZER;CN="Mom's Lit Society":MAILTO:jennifer@charlottesvillefamily.com
END:VEVENT
BEGIN:VEVENT
DTSTART;TZID=America/New_York:20260311T190000
DTEND;TZID=America/New_York:20260311T203000
DTSTAMP:20260420T031334
CREATED:20260206T183404Z
LAST-MODIFIED:20260206T183407Z
UID:12858-1773255600-1773261000@cambridgecommonwriters.org
SUMMARY:Reading with Jasmine Warga
DESCRIPTION:Join Jasmine Warga (WFYP\, June 2013) in conversation with David Arnold\, discussing and signing The Unlikely Tale of Chase & Finnegan. 
URL:https://cambridgecommonwriters.org/calendar/reading-with-jasmine-warga/
LOCATION:Joseph-Beth Booksellers\, 2692 Madison Road\, Cincinnati\, Ohio\, 45208\, United States
CATEGORIES:Alum Event
ATTACH;FMTTYPE=image/jpeg:https://cambridgecommonwriters.org/wp-content/uploads/2025/05/The-Unlikely-Tale-of-Chase-and-Finnegan.jpg
END:VEVENT
BEGIN:VEVENT
DTSTART;TZID=America/Denver:20260314T100000
DTEND;TZID=America/Denver:20260314T153000
DTSTAMP:20260420T031334
CREATED:20260206T185259Z
LAST-MODIFIED:20260206T185302Z
UID:12867-1773482400-1773502200@cambridgecommonwriters.org
SUMMARY:Book Festival with Jasmine Warga
DESCRIPTION:Join Jasmine Warga (WFYP\, June 2013) at the Tucson Festival for Books where she will speak about her new books on two panels: Writing Middle Grade Novels for Today’s Readers and Animal Tales of Rescue\, Courage & Connection.
URL:https://cambridgecommonwriters.org/calendar/book-festival-with-jasmine-warga/
LOCATION:University of Arizona\, 1200 E University Blvd\, Tucson\, Arizona\, 85721\, United States
CATEGORIES:Alum Event
ATTACH;FMTTYPE=image/webp:https://cambridgecommonwriters.org/wp-content/uploads/2025/03/Jasmine-Warga.webp
ORGANIZER;CN="Tucson Festival of Books":MAILTO:help@tucsonfestivalofbooks.org
END:VEVENT
BEGIN:VEVENT
DTSTART;TZID=America/New_York:20260314T103000
DTEND;TZID=America/New_York:20260314T120000
DTSTAMP:20260420T031334
CREATED:20260228T182642Z
LAST-MODIFIED:20260228T182645Z
UID:12945-1773484200-1773489600@cambridgecommonwriters.org
SUMMARY:Storytime with Claudia Rueda
DESCRIPTION:Join New York Times Best Seller author and illustrator Claudia Rueda (WFYP\, January 2010) for a fun\, interactive storytime celebrating the Smushkins! Claudia will share the inspiration behind the Smushkins\, offer insights into their unique personalities\, and walk through her creative process for the series. All art materials and a copy of the book to be personalized and signed are included.
URL:https://cambridgecommonwriters.org/calendar/storytime-with-claudia-rueda/
LOCATION:At The Society\, 128 East 63rd Street\, New York\, New York\, 10065\, United States
CATEGORIES:Alum Event
ATTACH;FMTTYPE=image/jpeg:https://cambridgecommonwriters.org/wp-content/uploads/2022/02/Claudia-Rueda.jpg
ORGANIZER;CN="At The Society":MAILTO:info@societyillustrators.org
END:VEVENT
BEGIN:VEVENT
DTSTART;TZID=America/Los_Angeles:20260314T150000
DTEND;TZID=America/Los_Angeles:20260314T170000
DTSTAMP:20260420T031334
CREATED:20260307T181949Z
LAST-MODIFIED:20260307T181952Z
UID:12966-1773500400-1773507600@cambridgecommonwriters.org
SUMMARY:10-Minute Play Reading with Lisa Kenner Grissom
DESCRIPTION:The Playwrights Union presents Pies & Plays\, featuring a new play by Lisa Kenner Grissom (WSS\, June 2013).
URL:https://cambridgecommonwriters.org/calendar/10-minute-play-reading-with-lisa-kenner-grissom/
LOCATION:Outside In Theatre\, 315 S Ave 55\, Los Angeles\, California\, 90042\, United States
CATEGORIES:Alum Event
ATTACH;FMTTYPE=image/jpeg:https://cambridgecommonwriters.org/wp-content/uploads/2026/01/LisaKennerGrissom.jpg
END:VEVENT
BEGIN:VEVENT
DTSTART;TZID=America/New_York:20260316T183000
DTEND;TZID=America/New_York:20260316T200000
DTSTAMP:20260420T031334
CREATED:20260307T183046Z
LAST-MODIFIED:20260307T183048Z
UID:12973-1773685800-1773691200@cambridgecommonwriters.org
SUMMARY:Voices of the Americas with Claudia Reuda
DESCRIPTION:Join author Claudia Rueda (WFYP\, January 2010) in conversation with Gabriela Adamo (LÍNEAS DEL SUR) for a discussion about Latin American children’s books as they travel from the south to the north of the continent. The conversation invites readers\, educators\, and librarians to discover the many ways these books can spark dialogue in classrooms\, libraries\, and homes.
URL:https://cambridgecommonwriters.org/calendar/voices-of-the-americas-with-claudia-reuda/
LOCATION:Sullaluna Bookstore & Bistrot\, 41 Carmine Street\, New York City\, New York\, 10014\, United States
CATEGORIES:Alum Event
ATTACH;FMTTYPE=image/jpeg:https://cambridgecommonwriters.org/wp-content/uploads/2022/02/Claudia-Rueda.jpg
END:VEVENT
BEGIN:VEVENT
DTSTART;TZID=America/New_York:20260323T180000
DTEND;TZID=America/New_York:20260323T200000
DTSTAMP:20260420T031334
CREATED:20260206T185924Z
LAST-MODIFIED:20260206T185928Z
UID:12873-1774288800-1774296000@cambridgecommonwriters.org
SUMMARY:Women's History Class with Ella Alkiewicz
DESCRIPTION:Join trainer Ella Alkiewicz (Nonfiction\, June 2018) for two hours of bright conversation. Celebrating Strong Women Across the Nation class will read\, write\, and discuss works by Sojourner Truth\, Joy Harjo\, Ruth Bader Ginsburg\, and other incredible women. After reading some of their work\, we will think about how we can apply their traits within ourselves. Open to all! \n\n\n\nElla Nathanael Alkiewicz\, MFA (she/her) is a Labrador Inuk educator\, small business owner\, visual artist\, and writer. She has taught at Mount Holyoke College\, UMass Boston\, Edmonton Lifelong Learners and more. Alkiewicz lives and works in Northampton\, MA.
URL:https://cambridgecommonwriters.org/calendar/womens-history-class-with-ella-alkiewicz/
LOCATION:Online Zoom
CATEGORIES:Alum Event
ATTACH;FMTTYPE=image/jpeg:https://cambridgecommonwriters.org/wp-content/uploads/2024/07/Ella-Alkiewicz-2024.jpeg
END:VEVENT
BEGIN:VEVENT
DTSTART;TZID=America/New_York:20260323T190000
DTEND;TZID=America/New_York:20260323T203000
DTSTAMP:20260420T031334
CREATED:20260314T181159Z
LAST-MODIFIED:20260314T181204Z
UID:13005-1774292400-1774297800@cambridgecommonwriters.org
SUMMARY:Author Talk with Deborah Sosin
DESCRIPTION:Join author Deborah Sosin (Nonfiction\, January 2015) and her developmental editor\, Michael Lowenthal\, to discuss the joys and complexities of conceiving and writing Escape Velocity\, this first-of-its-kind set of linked micro-memoirs of the exact same length. The book chronicles Deborah’s decades-long quest to overcome her family’s gravitational pull and forge a separate self\, capable of a loving\, intimate relationship. 
URL:https://cambridgecommonwriters.org/calendar/author-talk-with-deborah-sosin/
LOCATION:Newtonville Books\, 10 Langley Rd\, Newton\, Massachusetts\, 02459-1972\, United States
CATEGORIES:Alum Event,Mentor Event
ATTACH;FMTTYPE=image/jpeg:https://cambridgecommonwriters.org/wp-content/uploads/2026/01/Deborah-Sosin-2026.jpg
END:VEVENT
BEGIN:VEVENT
DTSTART;TZID=America/New_York:20260326T153000
DTEND;TZID=America/New_York:20260326T170000
DTSTAMP:20260420T031334
CREATED:20260307T184934Z
LAST-MODIFIED:20260307T184937Z
UID:12979-1774539000-1774544400@cambridgecommonwriters.org
SUMMARY:Exphrasis Writing Workshop with Aimee Noel
DESCRIPTION:Join Ohio poet\, Aimee Noel (Poetry\, January 2014) for this generative workshop where you can enjoy the work of local artists and learn different approaches to writing about visual art. “Ekphrasis” is a risk-free way to try a new voice\, expand your descriptions\, and hone your powers of observation through creative writing.
URL:https://cambridgecommonwriters.org/calendar/exphrasis-writing-workshop-with-aimee-noel/
LOCATION:South Londonderry Free Library\, 15 Old School St\, South Londonderry\, Vermont\, 05155\, United States
CATEGORIES:Alum Event
ATTACH;FMTTYPE=image/jpeg:https://cambridgecommonwriters.org/wp-content/uploads/2020/05/Aimee-Noel-scaled.jpg
ORGANIZER;CN="South Londonderry Free Library":MAILTO:librarian@slflibrary.org
END:VEVENT
BEGIN:VEVENT
DTSTART;TZID=America/New_York:20260326T180000
DTEND;TZID=America/New_York:20260326T200000
DTSTAMP:20260420T031334
CREATED:20260307T183744Z
LAST-MODIFIED:20260307T183747Z
UID:12977-1774548000-1774555200@cambridgecommonwriters.org
SUMMARY:Poetry Salon with Aimee Noel
DESCRIPTION:Writers\, readers\, and lovers of all things verse\, this is the place to be. This month\, the Pierson Library poetry salon welcomes poet Aimee Noel (Poetry 2014)\, whose collection Slag is out now. Her debut collection has been called “vital” and “urgent” work.  \n\n\n\nPoetry
URL:https://cambridgecommonwriters.org/calendar/poetry-salon-with-aimee-noel/
LOCATION:Pierson Library\, 5376 Shelburne Rd\, Shelburne\, Vermont\, 05482\, United States
CATEGORIES:Alum Event
ATTACH;FMTTYPE=image/jpeg:https://cambridgecommonwriters.org/wp-content/uploads/2020/05/Aimee-Noel-scaled.jpg
END:VEVENT
END:VCALENDAR