BEGIN:VCALENDAR
VERSION:2.0
PRODID:-//Cambridge Common Writers - ECPv6.15.20//NONSGML v1.0//EN
CALSCALE:GREGORIAN
METHOD:PUBLISH
X-ORIGINAL-URL:https://cambridgecommonwriters.org
X-WR-CALDESC:Events for Cambridge Common Writers
REFRESH-INTERVAL;VALUE=DURATION:PT1H
X-Robots-Tag:noindex
X-PUBLISHED-TTL:PT1H
BEGIN:VTIMEZONE
TZID:America/New_York
BEGIN:DAYLIGHT
TZOFFSETFROM:-0500
TZOFFSETTO:-0400
TZNAME:EDT
DTSTART:20240310T070000
END:DAYLIGHT
BEGIN:STANDARD
TZOFFSETFROM:-0400
TZOFFSETTO:-0500
TZNAME:EST
DTSTART:20241103T060000
END:STANDARD
BEGIN:DAYLIGHT
TZOFFSETFROM:-0500
TZOFFSETTO:-0400
TZNAME:EDT
DTSTART:20250309T070000
END:DAYLIGHT
BEGIN:STANDARD
TZOFFSETFROM:-0400
TZOFFSETTO:-0500
TZNAME:EST
DTSTART:20251102T060000
END:STANDARD
BEGIN:DAYLIGHT
TZOFFSETFROM:-0500
TZOFFSETTO:-0400
TZNAME:EDT
DTSTART:20260308T070000
END:DAYLIGHT
BEGIN:STANDARD
TZOFFSETFROM:-0400
TZOFFSETTO:-0500
TZNAME:EST
DTSTART:20261101T060000
END:STANDARD
END:VTIMEZONE
BEGIN:VTIMEZONE
TZID:America/Denver
BEGIN:DAYLIGHT
TZOFFSETFROM:-0700
TZOFFSETTO:-0600
TZNAME:MDT
DTSTART:20240310T090000
END:DAYLIGHT
BEGIN:STANDARD
TZOFFSETFROM:-0600
TZOFFSETTO:-0700
TZNAME:MST
DTSTART:20241103T080000
END:STANDARD
BEGIN:DAYLIGHT
TZOFFSETFROM:-0700
TZOFFSETTO:-0600
TZNAME:MDT
DTSTART:20250309T090000
END:DAYLIGHT
BEGIN:STANDARD
TZOFFSETFROM:-0600
TZOFFSETTO:-0700
TZNAME:MST
DTSTART:20251102T080000
END:STANDARD
BEGIN:DAYLIGHT
TZOFFSETFROM:-0700
TZOFFSETTO:-0600
TZNAME:MDT
DTSTART:20260308T090000
END:DAYLIGHT
BEGIN:STANDARD
TZOFFSETFROM:-0600
TZOFFSETTO:-0700
TZNAME:MST
DTSTART:20261101T080000
END:STANDARD
END:VTIMEZONE
BEGIN:VTIMEZONE
TZID:America/Port_of_Spain
BEGIN:STANDARD
TZOFFSETFROM:-0400
TZOFFSETTO:-0400
TZNAME:AST
DTSTART:20240101T000000
END:STANDARD
END:VTIMEZONE
BEGIN:VEVENT
DTSTART;TZID=America/New_York:20251103T180000
DTEND;TZID=America/New_York:20251103T200000
DTSTAMP:20260420T101147
CREATED:20251017T153619Z
LAST-MODIFIED:20251017T153624Z
UID:12441-1762192800-1762200000@cambridgecommonwriters.org
SUMMARY:Lying: A Writing Workshop with L. Scully
DESCRIPTION:Join writer L Scully (Nonfiction\, January 2023) for a two-hour writing workshop at Looky Here.
URL:https://cambridgecommonwriters.org/calendar/lying-a-writing-workshop-with-l-scully/
LOCATION:Looky Here\, 28 Chapman Street\, Greenfield\, Massachusetts\, 01301\, United States
CATEGORIES:Alum Event
ATTACH;FMTTYPE=image/jpeg:https://cambridgecommonwriters.org/wp-content/uploads/2023/01/cropped-L-Scully.jpeg
END:VEVENT
BEGIN:VEVENT
DTSTART;TZID=America/New_York:20251107T190000
DTEND;TZID=America/New_York:20251107T200000
DTSTAMP:20260420T101147
CREATED:20251104T211151Z
LAST-MODIFIED:20251104T211157Z
UID:12477-1762542000-1762545600@cambridgecommonwriters.org
SUMMARY:PoemWorks Series: Poetry Reading with Rex Arrasmith and Karen Sharpe
DESCRIPTION:Join Rex Arrasmith (Fiction/Poetry\, January 2018/June 2020) and Karen Sharpe for an evening of poetry reading and open mic with the online PoemWorks series.
URL:https://cambridgecommonwriters.org/calendar/poemworks-series-poetry-reading-with-rex-arrasmith-and-karen-sharpe/
LOCATION:Online Zoom Event
CATEGORIES:Alum Event
ATTACH;FMTTYPE=image/jpeg:https://cambridgecommonwriters.org/wp-content/uploads/2022/06/Rex-Fiction-e1654724348499.jpg
ORGANIZER;CN="PoemWorks":MAILTO:richardwaringpoet@gmail.com
END:VEVENT
BEGIN:VEVENT
DTSTART;TZID=America/New_York:20251109T100000
DTEND;TZID=America/New_York:20251109T113000
DTSTAMP:20260420T101147
CREATED:20251031T163728Z
LAST-MODIFIED:20251031T163844Z
UID:12465-1762682400-1762687800@cambridgecommonwriters.org
SUMMARY:2025 MAVA Conference with Stephanie Williing
DESCRIPTION:Join Stephanie Willing (WFYP\, June 2017) at the Mid Atlantic Voice Over Conference. Stephanie will lead the breakout session: Audiobooks: By the  Book: Performances grounded in genre\, rooted in text\, inspired by you.   \n\n\n\nIn this session\, participants will discuss audiobook auditions and listen to brief examples from master narrators in key genres\, identify their choices\, and then work on excerpts. Attendees will have the opportunity to read and receive feedback from an excerpt of their choice. Options will be provided before the session.
URL:https://cambridgecommonwriters.org/calendar/2025-mava-conference-with-stephanie-williing/
LOCATION:Westin Dulles Hotel\, 2520 Wasser Terrace\, Herndon\, Virginia\, 20171\, United States
CATEGORIES:Alum Event
ATTACH;FMTTYPE=image/jpeg:https://cambridgecommonwriters.org/wp-content/uploads/2023/08/Stephanie-Willing_author-photo_credit-Anna-Ty-Bergman-2022-scaled.jpg
ORGANIZER;CN="Mid-Atlantic Voiceover%2C LLC":MAILTO:val@midatlanticvo.com
END:VEVENT
BEGIN:VEVENT
DTSTART;TZID=America/Denver:20251109T113000
DTEND;TZID=America/Denver:20251109T123000
DTSTAMP:20260420T101147
CREATED:20251105T005845Z
LAST-MODIFIED:20251105T005851Z
UID:12500-1762687800-1762691400@cambridgecommonwriters.org
SUMMARY:Andrea Wang & Lauren H. Kerstein In Conversation at Boulder Bookstore
DESCRIPTION:Andrea Wang (WFYP\, June 2011) and Lauren H. Kerstein will speak about and sign their new books\, Worthy: The Brave and Capable Life of Joseph Pierce\, and Hope Rode at Boulder Bookstore. This is a FREE kid’s event\, but registration is required. \n\n\n\nAbout Worthy:Worthy is the true story of a man of indomitable spirit. In the mid-nineteenth century\, an impoverished father from Canton\, China\, sold his young son to an American sea captain\, Amos Peck. The boy\, dubbed “Joe\,” worked on the ship for months\, not knowing if his fate was to do so forever. Or would he be sold again? When the ship returned to America\, Captain Peck brought the young boy to his family\, who raised him with the other children. Joe Pierce grew\, gave distinguished service in the Union Army\, married\, had children and ultimately became an American citizen–all at a time when anti-Chinese prejudice was rampant. \n\n\n\nAbout Hope Rode:Following the Great Depression\, literacy rates in the country had dwindled\, and education and opportunities were harder to come by\, especially in areas like rural Appalachia. But still\, there was a dream: a vision of a nation in which reading was accessible to all—even those in the most remote places. \n\n\n\nThe Packhorse Library project of the 1930s and 1940s called upon Kentucky women to make that vision a reality and rise to the difficult and demanding job of delivering books on horseback. The Packhorse librarians were brave\, steadfast\, and resilient. For years\, the women endured rough terrain\, harsh conditions\, and exhaustion. And with each book delivered and reading lesson taught\, the librarians ushered in a new era for Kentuckians. \n\n\n\nHope Rode tells the true story of the strength\, courage\, and conviction of the Packhorse librarians.
URL:https://cambridgecommonwriters.org/calendar/andrea-wang-lauren-h-kerstein-in-conversation-at-boulder-bookstore/
LOCATION:Boulder Bookstore\, 1107 Pearl St\, Boulder\, Colorado\, 80302\, United States
CATEGORIES:Alum Event
ATTACH;FMTTYPE=image/jpeg:https://cambridgecommonwriters.org/wp-content/uploads/2021/01/Andrea-Wang.jpg
END:VEVENT
BEGIN:VEVENT
DTSTART;TZID=America/New_York:20251111T193000
DTEND;TZID=America/New_York:20251111T203000
DTSTAMP:20260420T101147
CREATED:20251104T223417Z
LAST-MODIFIED:20251104T223421Z
UID:12481-1762889400-1762893000@cambridgecommonwriters.org
SUMMARY:Experiments & Disorders: Readings with L Scully\, Patricia Spears Jones\, and Heather Lynn Johnson
DESCRIPTION:Curated by Tom Cole & Christen Clifford\, this event features fiction\, nonfiction\, poetry & performance texts by the most adventurous\, cross-genre established & emerging writers. Featured authors include L Scully (Nonfiction\, January 2023)\, Patricia Spears Jones\, and Heather Lynn Johnson. \n\n\n\nL Scully is a living writer. They are\, first and foremost\, a lover. \n\n\n\nPatricia Spears Jones is an African American poet\, anthologist and cultural activist who received the 2017 Jackson Poetry Prize and was appointed The New York State Poet (23-25). She is author of The Beloved Community and ten other collections\, and two plays commissioned and produced by Mabou Mines. She edited THINK: Poems for Aretha Franklin Inauguration Day Hat and Ordinary Women: An Anthology of New York City Women Poets. She serves on the board of The Poetry Project\, is founder/of the American Poets Congress\, is a Senior Fellow Emeritus for the Black Earth Institute and received an honorary Doctor of Humane Letters from Hartwick College. \n\n\n\nHeather Lynn Johnson (she\, they) is an artist and poet living in Brooklyn whose work is characterized by its lyricism and cultural critique. Heather’s formal approach to the narrative\, whether visual or poetic\, is distinguished by her willingness to lay bare her own existence. Centered around queer and Black American liberation and culture\, with an emphasis on outsiders\, rebels and lost histories\, Heather uses an autobiographical framework and considers their work imbued by their lived experience as a butch Black lesbian. Heather has published poems in the Panorama Journal of the Association of Historians of American Art\, Pique Magazine\, Pine Magazine\, and Facility Magazine. Heather was a co-curator for Queer|Art|Film from 2020-23\, the 2019 Leslie-Lohman Museum Fellow\, and the 2017 Literary Fellow for Queer|Art|Mentorship. She is also the author of “The Survival Guide For Queer Black Youth” (Inpatient Press\, 2017) and received an MFA with honors from the Rhode Island School of Design.
URL:https://cambridgecommonwriters.org/calendar/experiments-disorders-readings-with-l-scully-patricia-spears-jones-and-heather-lynn-johnson/
LOCATION:Dixon Place\, 161A Chrystie Street\, New York\, New York\, 10002\, United States
CATEGORIES:Alum Event
ATTACH;FMTTYPE=image/jpeg:https://cambridgecommonwriters.org/wp-content/uploads/2023/01/L-Scully.jpeg
END:VEVENT
BEGIN:VEVENT
DTSTART;TZID=America/New_York:20251113T190000
DTEND;TZID=America/New_York:20251113T203000
DTSTAMP:20260420T101147
CREATED:20251024T204545Z
LAST-MODIFIED:20251024T204558Z
UID:12449-1763060400-1763065800@cambridgecommonwriters.org
SUMMARY:The Goldilocks Strategy: Getting Our Relationship with Bears and Lions Just Right with Tony Eprile and Megan Walla-Murphy
DESCRIPTION:Join South African novelist and photographer Tony Eprile (Fiction\, MFA Writing Faculty) from his home in Vermont in conversation with CLAWS Botswana director\, Dr. Andrew Stein\, and biologist/tracker\, Meghan Walla-Murphy (Nonfiction Alum)\, as they share their adventures and insights from working with animals such as lions and black bears. Learn first hand from researchers working with dangerous predators and communities that live alongside them how they are using a combination of new technology and indigenous wisdom to coexist. \n\n\n\nTony Eprile is a South African novelist and photographer who lives in Vermont. His novel\, “The Persistence of Memory\,” was a New York Times Notable Book of the Year. \n\n\n\nDr. Andrew Stein has spent over two decades studying human–carnivore conflict across Africa\, working with African wild dogs\, lions\, leopards\, and hyenas in Kenya\, Botswana\, Namibia\, and South Africa.  \n\n\n\nFor over 25 years\, Meghan Walla-Murphy has had the good fortune of combining her passions of wildlife\, ecology\, and indigenous knowledge into work of conservation\, advocacy\, and outreach.
URL:https://cambridgecommonwriters.org/calendar/the-goldilocks-strategy-getting-our-relationship-with-bears-and-lions-just-right-with-tony-eprile-and-megan-walla-murphy/
LOCATION:Online Event
CATEGORIES:Alum Event,Mentor Event
ATTACH;FMTTYPE=image/jpeg:https://cambridgecommonwriters.org/wp-content/uploads/2025/10/Screenshot-2025-10-24-at-4.38.25-PM.jpg
ORGANIZER;CN="GBH":MAILTO:info@wgbh.org
END:VEVENT
BEGIN:VEVENT
DTSTART;TZID=America/New_York:20251115T090000
DTEND;TZID=America/New_York:20251115T140000
DTSTAMP:20260420T101147
CREATED:20251104T225522Z
LAST-MODIFIED:20251104T225527Z
UID:12491-1763197200-1763215200@cambridgecommonwriters.org
SUMMARY:Young Adult Author Symposium (YAAS) with Kate Fussner
DESCRIPTION:Do you like to read\, write\, or draw? Register for this year’s Young Adult Author Symposium (YAAS)! Meet 20 authors and illustrators\, including Kate Fussner (WFYP\, June 2021)\, hear about how they created their books\, and learn how you can write or draw your own! The Silver Unicorn Bookstore will be on hand selling books. Pizza and baked goods will also be available to purchase.
URL:https://cambridgecommonwriters.org/calendar/young-adult-author-symposium-yaas-with-kate-fussner/
LOCATION:Concord-Carlisle High School\, 500 Walden Street\, Concord\, Massachusetts\, 01742\, United States
CATEGORIES:Alum Event
ATTACH;FMTTYPE=image/jpeg:https://cambridgecommonwriters.org/wp-content/uploads/2021/08/Kate-Fussner.jpg
END:VEVENT
BEGIN:VEVENT
DTSTART;TZID=America/New_York:20251116T190000
DTEND;TZID=America/New_York:20251116T210000
DTSTAMP:20260420T101147
CREATED:20251114T145004Z
LAST-MODIFIED:20251114T145008Z
UID:12531-1763319600-1763326800@cambridgecommonwriters.org
SUMMARY:Poetry Reading with Andrea Ballou
DESCRIPTION:Join Andrea Ballou (Poetry\, June 2015) for a poetry reading at Boston University. Open Mic to follow.
URL:https://cambridgecommonwriters.org/calendar/poetry-reading-with-andrea-ballou/
LOCATION:Boston University\, 775 Commonwealth Ave\, Boston\, Massachusetts\, 02215\, United States
CATEGORIES:Alum Event
ATTACH;FMTTYPE=image/jpeg:https://cambridgecommonwriters.org/wp-content/uploads/2024/02/AndreaBallou.jpg
END:VEVENT
BEGIN:VEVENT
DTSTART;TZID=America/Denver:20251121T123000
DTEND;TZID=America/Denver:20251121T134500
DTSTAMP:20260420T101147
CREATED:20251114T150912Z
LAST-MODIFIED:20251114T150916Z
UID:12538-1763728200-1763732700@cambridgecommonwriters.org
SUMMARY:2025 NCTE Conference with Jasmine Warga
DESCRIPTION:Join Jasmine Warga (WFYP\, June 2013) at the 2025 NCTE Annual Convention for her workshop:  Memory Dreaming\, Memory Keeping: Collecting\, Creating\, and Keeping Memories with the Young Folks in Our Lives. This workshop will explore the ways we can better understand ourselves\, the students we serve\, and the legacies we create by holding dear our memories and elevating our dreams—the good\, the bad; the hopeful\, the nostalgic. In this session\, authors and educators will share ways we collect and keep memories with young people in classrooms across the country.
URL:https://cambridgecommonwriters.org/calendar/2025-ncte-conference-with-jasmine-warga/
LOCATION:Colorado Convention Center\, 700 14th Street\, Denver\, Colorado\, 80202\, United States
CATEGORIES:Alum Event
ATTACH;FMTTYPE=image/webp:https://cambridgecommonwriters.org/wp-content/uploads/2025/03/Jasmine-Warga.webp
ORGANIZER;CN="NCTE Annual Convention":MAILTO:NCTEevents@ncte.org
END:VEVENT
BEGIN:VEVENT
DTSTART;TZID=America/Port_of_Spain:20251122T163000
DTEND;TZID=America/Port_of_Spain:20251122T183000
DTSTAMP:20260420T101147
CREATED:20251121T141531Z
LAST-MODIFIED:20251121T142436Z
UID:12567-1763829000-1763836200@cambridgecommonwriters.org
SUMMARY:Sip and Read: Celeste Mohammad
DESCRIPTION:Enjoy an evening of readings and conversation with award-winning author Celeste Mohammed (Fiction\, June 2016) for a special Sip & Read event featuring her latest work\, Ever Since We Small.Sip\, nibble\, relax: the ambiance will be cozy\, warm\, and literary.
URL:https://cambridgecommonwriters.org/calendar/sip-and-read-celeste-mohammad/
LOCATION:Scribbles and Quills\, 6 Gaston Street\, Lange Park\, Chaguanas\, Trinidad and Tobago
CATEGORIES:Alum Event
ATTACH;FMTTYPE=image/jpeg:https://cambridgecommonwriters.org/wp-content/uploads/2024/02/Celeste_Mohammed.jpg
ORGANIZER;CN="Scribbles and Quills":MAILTO:books@scribblesandquills.com
END:VEVENT
BEGIN:VEVENT
DTSTART;TZID=America/New_York:20251122T180000
DTEND;TZID=America/New_York:20251122T193000
DTSTAMP:20260420T101147
CREATED:20251107T142325Z
LAST-MODIFIED:20251107T143223Z
UID:12508-1763834400-1763839800@cambridgecommonwriters.org
SUMMARY:Virtual Screening of "Nothing Solid" with Sharisse Zeroonian
DESCRIPTION:Join director Sharisse Zeroonian (WSS\, January 2024) for a screening and discussion of “Nothing Solid”\, the world’s first and (so far) only movie about CVS.  \n\n\n\nNOTE: Recommended for ages 16+
URL:https://cambridgecommonwriters.org/calendar/virtual-screening-of-nothing-solid-with-sharisse-zeroonian/
LOCATION:Online Event
CATEGORIES:Alum Event
ATTACH;FMTTYPE=image/webp:https://cambridgecommonwriters.org/wp-content/uploads/2024/04/SherisseZeroonian.webp
ORGANIZER;CN="Sharisse Zeroonian":MAILTO:szeroonian@gmail.com
END:VEVENT
BEGIN:VEVENT
DTSTART;TZID=America/New_York:20251122T190000
DTEND;TZID=America/New_York:20251122T203000
DTSTAMP:20260420T101147
CREATED:20251107T143142Z
LAST-MODIFIED:20251107T143147Z
UID:12513-1763838000-1763843400@cambridgecommonwriters.org
SUMMARY:2025 Emerging Playwright Competition with Patricia Lynn
DESCRIPTION:Join Patricia Lynn (WSS\, June 2023) for a reading and moderated talkback of her winning play\, The Untitled Spinster\, at the 2025 Emerging Playwright Competition’s reading of plays.
URL:https://cambridgecommonwriters.org/calendar/2025-emerging-playwright-competition-with-patricia-lynn/
LOCATION:Phillips Mill Community Association\, 2619 River Road\, New Hope\, Pennsylvania\, 18938\, United States
CATEGORIES:Alum Event
ATTACH;FMTTYPE=image/jpeg:https://cambridgecommonwriters.org/wp-content/uploads/2025/11/Patricia-Lynn-Headshot.jpeg
ORGANIZER;CN="Phillips Mill Community Association":MAILTO:info@phillipsmill.org
END:VEVENT
END:VCALENDAR